BEGIN:VCALENDAR
VERSION:2.0
PRODID:-//Bayerische Schachjugend - ECPv6.15.18//NONSGML v1.0//EN
CALSCALE:GREGORIAN
METHOD:PUBLISH
X-ORIGINAL-URL:https://bayerische-schachjugend.de
X-WR-CALDESC:Veranstaltungen für Bayerische Schachjugend
REFRESH-INTERVAL;VALUE=DURATION:PT1H
X-Robots-Tag:noindex
X-PUBLISHED-TTL:PT1H
BEGIN:VTIMEZONE
TZID:Europe/Berlin
BEGIN:DAYLIGHT
TZOFFSETFROM:+0100
TZOFFSETTO:+0200
TZNAME:CEST
DTSTART:20240331T010000
END:DAYLIGHT
BEGIN:STANDARD
TZOFFSETFROM:+0200
TZOFFSETTO:+0100
TZNAME:CET
DTSTART:20241027T010000
END:STANDARD
BEGIN:DAYLIGHT
TZOFFSETFROM:+0100
TZOFFSETTO:+0200
TZNAME:CEST
DTSTART:20250330T010000
END:DAYLIGHT
BEGIN:STANDARD
TZOFFSETFROM:+0200
TZOFFSETTO:+0100
TZNAME:CET
DTSTART:20251026T010000
END:STANDARD
BEGIN:DAYLIGHT
TZOFFSETFROM:+0100
TZOFFSETTO:+0200
TZNAME:CEST
DTSTART:20260329T010000
END:DAYLIGHT
BEGIN:STANDARD
TZOFFSETFROM:+0200
TZOFFSETTO:+0100
TZNAME:CET
DTSTART:20261025T010000
END:STANDARD
END:VTIMEZONE
BEGIN:VEVENT
DTSTART;VALUE=DATE:20250706
DTEND;VALUE=DATE:20250707
DTSTAMP:20260419T191820
CREATED:20250612T094215Z
LAST-MODIFIED:20250616T175557Z
UID:15731-1751760000-1751846399@bayerische-schachjugend.de
SUMMARY:Mädchentag: Schach und Kletterwald in Mittelfranken
DESCRIPTION:  \nLiebe Schach-Mädchen\, \ndie Schachjugend Mittelfranken lädt euch ganz herzlich zum Mädchenschachtag am 6. Juli 2025 ein. Vormittags spielen wir Schach\, nachmittags klettern wir im Kletterwald Pottenstein. Alles Weitere könnt ihr der Ausschreibung entnehmen. \n  \nEs freuen sich auf euch \nKristin Braun\, Mädchenreferentin im Schachbezirk Mittelfranken \nBernhard Abmayr\, Jugendleiter NORD
URL:https://bayerische-schachjugend.de/event/maedchentag-schach-und-kletterwald-in-mittelfranken/
LOCATION:Vereinslokal des SC Pottenstein\, Pfarrheim Tüchersfeld\, Am Lindsbach 3\, Pottenstein\, Bayern - Mittelfranken\, 91278
CATEGORIES:Mädchenschach
END:VEVENT
BEGIN:VEVENT
DTSTART;TZID=Europe/Berlin:20250713T100000
DTEND;TZID=Europe/Berlin:20250713T170000
DTSTAMP:20260419T191820
CREATED:20250202T081301Z
LAST-MODIFIED:20250202T081301Z
UID:15147-1752400800-1752426000@bayerische-schachjugend.de
SUMMARY:13. Altöttinger Jugend- und Junioren-Open
DESCRIPTION:Ausschreibung
URL:https://bayerische-schachjugend.de/event/13-altoettinger-jugend-und-junioren-open/
LOCATION:Dreifachturnhalle Altötting\, Burghauser Straße 69\, Altötting\, 84503
CATEGORIES:Andere Turniere
ORGANIZER;CN="TV Alt%C3%B6tting 1864":MAILTO:stadler@t-online.de
END:VEVENT
BEGIN:VEVENT
DTSTART;TZID=Europe/Berlin:20250726T100000
DTEND;TZID=Europe/Berlin:20250726T140000
DTSTAMP:20260419T191820
CREATED:20250202T081752Z
LAST-MODIFIED:20250202T081752Z
UID:15157-1753524000-1753538400@bayerische-schachjugend.de
SUMMARY:Anfängerturnier und DWZ-Turnier bis DWZ 1100 in Neunkirchen a.Br.  (Oberfranken)
DESCRIPTION:Link zur Turnierseite: https://mfrnord.info/nest/index.htm
URL:https://bayerische-schachjugend.de/event/anfaengerturnier-und-dwz-turnier-bis-dwz-1100-in-neunkirchen-a-br-oberfranken/
LOCATION:Sachsen
END:VEVENT
BEGIN:VEVENT
DTSTART;TZID=Europe/Berlin:20250727T100000
DTEND;TZID=Europe/Berlin:20250727T160000
DTSTAMP:20260419T191820
CREATED:20250322T082528Z
LAST-MODIFIED:20250322T082528Z
UID:15339-1753610400-1753632000@bayerische-schachjugend.de
SUMMARY:Jugendturnier in Ortenburg
DESCRIPTION:Ausschreibung
URL:https://bayerische-schachjugend.de/event/jugendturnier-in-ortenburg-2/
LOCATION:Sachsen
CATEGORIES:Andere Turniere
END:VEVENT
END:VCALENDAR