BEGIN:VCALENDAR
VERSION:2.0
PRODID:-//Bayerische Schachjugend - ECPv6.15.18//NONSGML v1.0//EN
CALSCALE:GREGORIAN
METHOD:PUBLISH
X-WR-CALNAME:Bayerische Schachjugend
X-ORIGINAL-URL:https://bayerische-schachjugend.de
X-WR-CALDESC:Veranstaltungen für Bayerische Schachjugend
REFRESH-INTERVAL;VALUE=DURATION:PT1H
X-Robots-Tag:noindex
X-PUBLISHED-TTL:PT1H
BEGIN:VTIMEZONE
TZID:Europe/Berlin
BEGIN:DAYLIGHT
TZOFFSETFROM:+0100
TZOFFSETTO:+0200
TZNAME:CEST
DTSTART:20210328T010000
END:DAYLIGHT
BEGIN:STANDARD
TZOFFSETFROM:+0200
TZOFFSETTO:+0100
TZNAME:CET
DTSTART:20211031T010000
END:STANDARD
BEGIN:DAYLIGHT
TZOFFSETFROM:+0100
TZOFFSETTO:+0200
TZNAME:CEST
DTSTART:20220327T010000
END:DAYLIGHT
BEGIN:STANDARD
TZOFFSETFROM:+0200
TZOFFSETTO:+0100
TZNAME:CET
DTSTART:20221030T010000
END:STANDARD
BEGIN:DAYLIGHT
TZOFFSETFROM:+0100
TZOFFSETTO:+0200
TZNAME:CEST
DTSTART:20230326T010000
END:DAYLIGHT
BEGIN:STANDARD
TZOFFSETFROM:+0200
TZOFFSETTO:+0100
TZNAME:CET
DTSTART:20231029T010000
END:STANDARD
BEGIN:DAYLIGHT
TZOFFSETFROM:+0100
TZOFFSETTO:+0200
TZNAME:CEST
DTSTART:20240331T010000
END:DAYLIGHT
BEGIN:STANDARD
TZOFFSETFROM:+0200
TZOFFSETTO:+0100
TZNAME:CET
DTSTART:20241027T010000
END:STANDARD
END:VTIMEZONE
BEGIN:VEVENT
DTSTART;VALUE=DATE:20220930
DTEND;VALUE=DATE:20221005
DTSTAMP:20260419T191656
CREATED:20220716T154034Z
LAST-MODIFIED:20220716T154110Z
UID:9487-1664496000-1664927999@bayerische-schachjugend.de
SUMMARY:Deutsche Ländermeisterschaft
DESCRIPTION:Die Deutsche Ländermeisterschaft soll in Wiesbaden stattfinden. Bayern ist amtierender Meister und wird mit einer guten Mannschaft versuchen den Titel zu verteidigen.
URL:https://bayerische-schachjugend.de/event/dlm/
LOCATION:Sachsen
CATEGORIES:Leistungssport
END:VEVENT
BEGIN:VEVENT
DTSTART;TZID=Europe/Berlin:20221003T093000
DTEND;TZID=Europe/Berlin:20221003T170000
DTSTAMP:20260419T191656
CREATED:20220831T175012Z
LAST-MODIFIED:20220831T185127Z
UID:11316-1664789400-1664816400@bayerische-schachjugend.de
SUMMARY:RAPID-Turnier Bamberg
DESCRIPTION:Wie in den vergangenen 30 Jahren veranstalten der SC Bamberg und der SC Höchstadt auch am 3.10. wieder das Jugend-Open in Bamberg. Das Turnier ist eines der größten Schnellschach Jugendturniere in Bayern und zählt auch zur Rapid-Turnierserie der Bayerischen-Schachjugend und als Jugendmeisterschaft des Schachkreises Bamberg. Der Schachbezirk Oberfranken spielt in diesem Turnier die   ... 
URL:https://bayerische-schachjugend.de/event/rapid-turnier-bamberg/
LOCATION:Graf Staufenberg Realschule\, Kloster-Langheim-Straße 11\, Bamberg\, Bayern\, 96050\, Deutschland
CATEGORIES:BSJ-Turniere
ATTACH;FMTTYPE=image/png:https://bayerische-schachjugend.de/wp-content/uploads/JUO.png
END:VEVENT
BEGIN:VEVENT
DTSTART;VALUE=DATE:20221012
DTEND;VALUE=DATE:20221023
DTSTAMP:20260419T191656
CREATED:20220923T131102Z
LAST-MODIFIED:20220923T131102Z
UID:11733-1665532800-1666483199@bayerische-schachjugend.de
SUMMARY:U20 WM mit Jana Schneider
DESCRIPTION:Jana spielt mal wieder eine WM mit. Die wievielte ist es eigentlich? Auf alle Fällt findet die WM auf Sardinien statt. Die Insel gehört zu Italien und nicht Frankreich\, wie es manche annehmen. 😉 \nTurnierseite: https://www.fideworldjunior2022.com/
URL:https://bayerische-schachjugend.de/event/u20-wm-mit-jana-schneider/
LOCATION:Sachsen
CATEGORIES:Leistungssport
END:VEVENT
BEGIN:VEVENT
DTSTART;VALUE=DATE:20221014
DTEND;VALUE=DATE:20221017
DTSTAMP:20260419T191656
CREATED:20220923T134847Z
LAST-MODIFIED:20220923T134941Z
UID:11740-1665705600-1665964799@bayerische-schachjugend.de
SUMMARY:D2-D4 Kader in Vorra
DESCRIPTION:https://bayerische-schachjugend.de/kaderlehrgaenge-oktober-in-vorra/
URL:https://bayerische-schachjugend.de/event/d2-d4-kader-in-vorra/
LOCATION:Sachsen
CATEGORIES:Leistungssport
END:VEVENT
BEGIN:VEVENT
DTSTART;VALUE=DATE:20221021
DTEND;VALUE=DATE:20221024
DTSTAMP:20260419T191656
CREATED:20220923T134759Z
LAST-MODIFIED:20220923T134759Z
UID:11738-1666310400-1666569599@bayerische-schachjugend.de
SUMMARY:D1-Kader in Vorra
DESCRIPTION:https://bayerische-schachjugend.de/kaderlehrgaenge-oktober-in-vorra/
URL:https://bayerische-schachjugend.de/event/d1-kader-in-vorra/
LOCATION:Sachsen
CATEGORIES:Leistungssport
END:VEVENT
BEGIN:VEVENT
DTSTART;VALUE=DATE:20221029
DTEND;VALUE=DATE:20221030
DTSTAMP:20260419T191656
CREATED:20220929T231013Z
LAST-MODIFIED:20220929T231013Z
UID:11821-1667001600-1667087999@bayerische-schachjugend.de
SUMMARY:Bayerische Blitzschach-Einzelmeisterschaft der Frauen 2022
DESCRIPTION:Ausschreibung Bayerische Blitz-EM Frauen 2022
URL:https://bayerische-schachjugend.de/event/bayerische-blitzschach-einzelmeisterschaft-der-frauen-2022/
LOCATION:SC Schwarz Weiß Nürnberg\, Siebenkeesstr. 4\, Nürnberg\, Bayern\, 90459
CATEGORIES:Mädchenschach
END:VEVENT
BEGIN:VEVENT
DTSTART;VALUE=DATE:20221029
DTEND;VALUE=DATE:20230123
DTSTAMP:20260419T191656
CREATED:20220923T132619Z
LAST-MODIFIED:20220923T132857Z
UID:11735-1667001600-1674431999@bayerische-schachjugend.de
SUMMARY:C-Trainerausbildung
DESCRIPTION:Werte Schachfreunde\, \nder BSB bietet in München wieder eine C-Trainer-Ausbildung an. Auch können auslaufende Scheine verlängert werden! Der Kurs beginnt ab 29.Oktober! \nDie Ausbildung gliedert sich in 5 Wochenend-Einheiten: \nModul 1  2022-1.Modul-Muenchen \nModul 2  2022-2.Modul-Muenchen \nModul 3  2022-3.Modul-Muenchen \nModul 4  2022-4.Modul-Muenchen \nPrüfung  2022-C-Prüfung-Muenchen \n\nFür die Teilnehme ... 
URL:https://bayerische-schachjugend.de/event/c-trainerausbildung/
LOCATION:München
CATEGORIES:Ausbildung
ATTACH;FMTTYPE=image/jpeg:https://bayerische-schachjugend.de/wp-content/uploads/WhatsApp-Image-2022-01-25-at-14.46.11.jpeg
END:VEVENT
BEGIN:VEVENT
DTSTART;VALUE=DATE:20221030
DTEND;VALUE=DATE:20221031
DTSTAMP:20260419T191656
CREATED:20220929T231305Z
LAST-MODIFIED:20220929T231305Z
UID:11824-1667088000-1667174399@bayerische-schachjugend.de
SUMMARY:Bayerische Schnellschach-Einzelmeisterschaft der Frauen 2022
DESCRIPTION:Ausschreibung Bayerische Schnellschach-EM Frauen 2022
URL:https://bayerische-schachjugend.de/event/bayerische-schnellschach-einzelmeisterschaft-der-frauen-2022/
LOCATION:SC Schwarz Weiß Nürnberg\, Siebenkeesstr. 4\, Nürnberg\, Bayern\, 90459
CATEGORIES:Mädchenschach
END:VEVENT
END:VCALENDAR