BEGIN:VCALENDAR
VERSION:2.0
PRODID:-//Bayerische Schachjugend - ECPv6.15.18//NONSGML v1.0//EN
CALSCALE:GREGORIAN
METHOD:PUBLISH
X-ORIGINAL-URL:https://bayerische-schachjugend.de
X-WR-CALDESC:Veranstaltungen für Bayerische Schachjugend
REFRESH-INTERVAL;VALUE=DURATION:PT1H
X-Robots-Tag:noindex
X-PUBLISHED-TTL:PT1H
BEGIN:VTIMEZONE
TZID:Europe/Berlin
BEGIN:DAYLIGHT
TZOFFSETFROM:+0100
TZOFFSETTO:+0200
TZNAME:CEST
DTSTART:20210328T010000
END:DAYLIGHT
BEGIN:STANDARD
TZOFFSETFROM:+0200
TZOFFSETTO:+0100
TZNAME:CET
DTSTART:20211031T010000
END:STANDARD
BEGIN:DAYLIGHT
TZOFFSETFROM:+0100
TZOFFSETTO:+0200
TZNAME:CEST
DTSTART:20220327T010000
END:DAYLIGHT
BEGIN:STANDARD
TZOFFSETFROM:+0200
TZOFFSETTO:+0100
TZNAME:CET
DTSTART:20221030T010000
END:STANDARD
BEGIN:DAYLIGHT
TZOFFSETFROM:+0100
TZOFFSETTO:+0200
TZNAME:CEST
DTSTART:20230326T010000
END:DAYLIGHT
BEGIN:STANDARD
TZOFFSETFROM:+0200
TZOFFSETTO:+0100
TZNAME:CET
DTSTART:20231029T010000
END:STANDARD
END:VTIMEZONE
BEGIN:VEVENT
DTSTART;VALUE=DATE:20220909
DTEND;VALUE=DATE:20220912
DTSTAMP:20260419T164445
CREATED:20220430T064753Z
LAST-MODIFIED:20220430T064800Z
UID:8948-1662681600-1662940799@bayerische-schachjugend.de
SUMMARY:Festival Mediaval in Selb - Lebendschach
DESCRIPTION:Großes mittelalterliches Festival in Selb mit Lebendschachaufführungen und Blitzturnier. \nWebseite des Festvials: https://www.festival-mediaval.com/
URL:https://bayerische-schachjugend.de/event/festival-mediaval-lebendschach/
LOCATION:Sachsen
CATEGORIES:Andere Turniere,Weitere Termine
END:VEVENT
BEGIN:VEVENT
DTSTART;VALUE=DATE:20220916
DTEND;VALUE=DATE:20220928
DTSTAMP:20260419T164445
CREATED:20220913T082807Z
LAST-MODIFIED:20220913T082807Z
UID:11413-1663286400-1664323199@bayerische-schachjugend.de
SUMMARY:WM (U10-U12) mit Veda Ramakrishnan\, Laura Sophie Bauer und Constantin Stichter
DESCRIPTION:In Batumi (Georgien) finden die Weltmeisterschaften der Schüler mit Veda Ramakrishnan (U10w)\, Laura Sophie Bauer (U12w) und Constantin Stichter (U12) statt. Betreut werden unsere Bayern unteranderem von Philipp Müller und Bundesnachwuchstrainer IM Bernd Vökler \nDie Turnierwebseite findet sich hier: https://wccc2022.fide.com/ \n ... 
URL:https://bayerische-schachjugend.de/event/wm-u10-u12-mit-veda-ramakrishnan-laura-sophie-bauer-und-constantin-stichter/
LOCATION:Sachsen
CATEGORIES:Leistungssport
END:VEVENT
BEGIN:VEVENT
DTSTART;TZID=Europe/Berlin:20220918T093000
DTEND;TZID=Europe/Berlin:20220918T183000
DTSTAMP:20260419T164445
CREATED:20220913T085919Z
LAST-MODIFIED:20220913T085932Z
UID:11415-1663493400-1663525800@bayerische-schachjugend.de
SUMMARY:Schnellschach- und Blitzschachturnier in München
DESCRIPTION:https://schachfreundemuenchen.kadermanager.de/events/16232061
URL:https://bayerische-schachjugend.de/event/schnellschach-und-blitzschachturnier-in-muenchen/
LOCATION:Sachsen
CATEGORIES:Andere Turniere
END:VEVENT
BEGIN:VEVENT
DTSTART;TZID=Europe/Berlin:20220918T123000
DTEND;TZID=Europe/Berlin:20220918T180000
DTSTAMP:20260419T164445
CREATED:20220911T144401Z
LAST-MODIFIED:20220911T144401Z
UID:11385-1663504200-1663524000@bayerische-schachjugend.de
SUMMARY:2. Rosenheimer FIDE Rapid-Turnier
DESCRIPTION:OPEN A\, FIDE\, offen für alle Teilnehmer / OPEN B\, für U8 – U10 – U12 \nAusschreibung
URL:https://bayerische-schachjugend.de/event/2-rosenheimer-fide-rapid-turnier/
LOCATION:Sachsen
CATEGORIES:Andere Turniere
END:VEVENT
BEGIN:VEVENT
DTSTART;TZID=Europe/Berlin:20220924T100000
DTEND;TZID=Europe/Berlin:20220924T170000
DTSTAMP:20260419T164445
CREATED:20220705T090441Z
LAST-MODIFIED:20220705T090559Z
UID:9427-1664013600-1664038800@bayerische-schachjugend.de
SUMMARY:3. Dinkelsbühler-Jugend-Cup
DESCRIPTION:Der Schachklub Dinkelsbühl e.V. und die Schach-AG des Dinkelsbühler Gymnasiums präsentieren den 3. Dinkelsbühler-Jugend-Cup \nAusschreibung Turnier Dinkelsbühl
URL:https://bayerische-schachjugend.de/event/3-dinkelsbuehler-jugend-cup/
LOCATION:Sachsen
CATEGORIES:Andere Turniere
END:VEVENT
BEGIN:VEVENT
DTSTART;TZID=Europe/Berlin:20220928T193000
DTEND;TZID=Europe/Berlin:20220928T203000
DTSTAMP:20260419T164445
CREATED:20220716T141311Z
LAST-MODIFIED:20220923T141301Z
UID:9470-1664393400-1664397000@bayerische-schachjugend.de
SUMMARY:Schachstammtisch (online)
DESCRIPTION:Diskussion um aktuelle Themen (bspw. Mitgliedergewinnung\, Herbstförderprogramme) und DSB-Kongress (bspw. DEM/German Masters) \nAnmeldung: lehrgaenge[at]bayerische[Minus]schachjugend[Punkt]de\, Link wird dann kurz vor Beginn zugeschickt. \nfällt aus mangels Interesse.
URL:https://bayerische-schachjugend.de/event/schachstammtisch-online/
LOCATION:Sachsen
END:VEVENT
BEGIN:VEVENT
DTSTART;VALUE=DATE:20220930
DTEND;VALUE=DATE:20221005
DTSTAMP:20260419T164445
CREATED:20220716T154034Z
LAST-MODIFIED:20220716T154110Z
UID:9487-1664496000-1664927999@bayerische-schachjugend.de
SUMMARY:Deutsche Ländermeisterschaft
DESCRIPTION:Die Deutsche Ländermeisterschaft soll in Wiesbaden stattfinden. Bayern ist amtierender Meister und wird mit einer guten Mannschaft versuchen den Titel zu verteidigen.
URL:https://bayerische-schachjugend.de/event/dlm/
LOCATION:Sachsen
CATEGORIES:Leistungssport
END:VEVENT
END:VCALENDAR