BEGIN:VCALENDAR
VERSION:2.0
PRODID:-//Bayerische Schachjugend - ECPv6.15.18//NONSGML v1.0//EN
CALSCALE:GREGORIAN
METHOD:PUBLISH
X-WR-CALNAME:Bayerische Schachjugend
X-ORIGINAL-URL:https://bayerische-schachjugend.de
X-WR-CALDESC:Veranstaltungen für Bayerische Schachjugend
REFRESH-INTERVAL;VALUE=DURATION:PT1H
X-Robots-Tag:noindex
X-PUBLISHED-TTL:PT1H
BEGIN:VTIMEZONE
TZID:Europe/Berlin
BEGIN:DAYLIGHT
TZOFFSETFROM:+0100
TZOFFSETTO:+0200
TZNAME:CEST
DTSTART:20210328T010000
END:DAYLIGHT
BEGIN:STANDARD
TZOFFSETFROM:+0200
TZOFFSETTO:+0100
TZNAME:CET
DTSTART:20211031T010000
END:STANDARD
BEGIN:DAYLIGHT
TZOFFSETFROM:+0100
TZOFFSETTO:+0200
TZNAME:CEST
DTSTART:20220327T010000
END:DAYLIGHT
BEGIN:STANDARD
TZOFFSETFROM:+0200
TZOFFSETTO:+0100
TZNAME:CET
DTSTART:20221030T010000
END:STANDARD
BEGIN:DAYLIGHT
TZOFFSETFROM:+0100
TZOFFSETTO:+0200
TZNAME:CEST
DTSTART:20230326T010000
END:DAYLIGHT
BEGIN:STANDARD
TZOFFSETFROM:+0200
TZOFFSETTO:+0100
TZNAME:CET
DTSTART:20231029T010000
END:STANDARD
END:VTIMEZONE
BEGIN:VEVENT
DTSTART;TZID=Europe/Berlin:20220203T200000
DTEND;TZID=Europe/Berlin:20220203T213000
DTSTAMP:20260419T162915
CREATED:20220130T161427Z
LAST-MODIFIED:20220130T161427Z
UID:8408-1643918400-1643923800@bayerische-schachjugend.de
SUMMARY:8. DSJ-Austauschforum
DESCRIPTION:Die Konferenz findet online statt und ist auch für Interessierte offen. \nEinladung mit Zugangslink
URL:https://bayerische-schachjugend.de/event/8-dsj-austauschforum/
LOCATION:Sachsen
CATEGORIES:BSJ-Funktionär
END:VEVENT
BEGIN:VEVENT
DTSTART;TZID=Europe/Berlin:20220224T200000
DTEND;TZID=Europe/Berlin:20220224T210000
DTSTAMP:20260419T162915
CREATED:20220216T224650Z
LAST-MODIFIED:20220216T224650Z
UID:8445-1645732800-1645736400@bayerische-schachjugend.de
SUMMARY:DSJ: Kandidat:innen stellen sich vor
DESCRIPTION:In einer Onlinekonferenz stellen sich die Kandidaten und Kandidatinnen vor\, die bei der DSJ-Jugendversammlung am 5. März zur Wahl stehen. \nDer Link für das Forum lautet: http://meeting.deutsche-schachjugend.de/b/nik-k3s-amg-jug
URL:https://bayerische-schachjugend.de/event/dsj-kandidatinnen-stellen-sich-vor/
LOCATION:Sachsen
CATEGORIES:BSJ-Funktionär
END:VEVENT
END:VCALENDAR