BEGIN:VCALENDAR
VERSION:2.0
PRODID:-//Bayerische Schachjugend - ECPv6.15.18//NONSGML v1.0//EN
CALSCALE:GREGORIAN
METHOD:PUBLISH
X-WR-CALNAME:Bayerische Schachjugend
X-ORIGINAL-URL:https://bayerische-schachjugend.de
X-WR-CALDESC:Veranstaltungen für Bayerische Schachjugend
REFRESH-INTERVAL;VALUE=DURATION:PT1H
X-Robots-Tag:noindex
X-PUBLISHED-TTL:PT1H
BEGIN:VTIMEZONE
TZID:Europe/Berlin
BEGIN:DAYLIGHT
TZOFFSETFROM:+0100
TZOFFSETTO:+0200
TZNAME:CEST
DTSTART:20200329T010000
END:DAYLIGHT
BEGIN:STANDARD
TZOFFSETFROM:+0200
TZOFFSETTO:+0100
TZNAME:CET
DTSTART:20201025T010000
END:STANDARD
BEGIN:DAYLIGHT
TZOFFSETFROM:+0100
TZOFFSETTO:+0200
TZNAME:CEST
DTSTART:20210328T010000
END:DAYLIGHT
BEGIN:STANDARD
TZOFFSETFROM:+0200
TZOFFSETTO:+0100
TZNAME:CET
DTSTART:20211031T010000
END:STANDARD
BEGIN:DAYLIGHT
TZOFFSETFROM:+0100
TZOFFSETTO:+0200
TZNAME:CEST
DTSTART:20220327T010000
END:DAYLIGHT
BEGIN:STANDARD
TZOFFSETFROM:+0200
TZOFFSETTO:+0100
TZNAME:CET
DTSTART:20221030T010000
END:STANDARD
END:VTIMEZONE
BEGIN:VEVENT
DTSTART;TZID=Europe/Berlin:20211230T170000
DTEND;TZID=Europe/Berlin:20211230T190000
DTSTAMP:20260419T190258
CREATED:20211219T112317Z
LAST-MODIFIED:20211219T112317Z
UID:8337-1640883600-1640890800@bayerische-schachjugend.de
SUMMARY:SFT Lichess Winterturniere
DESCRIPTION:Feiertagsrunde 1: 30.12.21  Feiertagsrunde 2: 06.01.22  Feiertagsrunde 3: 13.01.22  \nKostenlos für alle U12 und U18 Teams! \nEinstündiger Spielspaß auf Lichess. \nMehr dazu in der Ausschreibung. \n 
URL:https://bayerische-schachjugend.de/event/sft-lichess-winterturniere/
LOCATION:Sachsen
CATEGORIES:Andere Turniere
END:VEVENT
END:VCALENDAR