BEGIN:VCALENDAR
VERSION:2.0
PRODID:-//Bayerische Schachjugend - ECPv6.15.18//NONSGML v1.0//EN
CALSCALE:GREGORIAN
METHOD:PUBLISH
X-WR-CALNAME:Bayerische Schachjugend
X-ORIGINAL-URL:https://bayerische-schachjugend.de
X-WR-CALDESC:Veranstaltungen für Bayerische Schachjugend
REFRESH-INTERVAL;VALUE=DURATION:PT1H
X-Robots-Tag:noindex
X-PUBLISHED-TTL:PT1H
BEGIN:VTIMEZONE
TZID:Europe/Berlin
BEGIN:DAYLIGHT
TZOFFSETFROM:+0100
TZOFFSETTO:+0200
TZNAME:CEST
DTSTART:20200329T010000
END:DAYLIGHT
BEGIN:STANDARD
TZOFFSETFROM:+0200
TZOFFSETTO:+0100
TZNAME:CET
DTSTART:20201025T010000
END:STANDARD
BEGIN:DAYLIGHT
TZOFFSETFROM:+0100
TZOFFSETTO:+0200
TZNAME:CEST
DTSTART:20210328T010000
END:DAYLIGHT
BEGIN:STANDARD
TZOFFSETFROM:+0200
TZOFFSETTO:+0100
TZNAME:CET
DTSTART:20211031T010000
END:STANDARD
BEGIN:DAYLIGHT
TZOFFSETFROM:+0100
TZOFFSETTO:+0200
TZNAME:CEST
DTSTART:20220327T010000
END:DAYLIGHT
BEGIN:STANDARD
TZOFFSETFROM:+0200
TZOFFSETTO:+0100
TZNAME:CET
DTSTART:20221030T010000
END:STANDARD
END:VTIMEZONE
BEGIN:VEVENT
DTSTART;TZID=Europe/Berlin:20210903T170000
DTEND;TZID=Europe/Berlin:20210905T130000
DTSTAMP:20260419T232152
CREATED:20210203T131456Z
LAST-MODIFIED:20210818T110343Z
UID:6394-1630688400-1630846800@bayerische-schachjugend.de
SUMMARY:Bayerische Schachakademie
DESCRIPTION:Nach der letztjährigen erfolgreichen Primäre findet auch dieses Jahr wieder die Bayerische Schachakademie statt. \n\nDie Bayerische Schachakademie (BSA) ist ein Aus- und Weiterbildungswochenende des Bayerischen Schachbundes mit Unterstützung der Bayerischen Schachjugend\, sodass auch der ehemalige U25-Herbstlehrgang inkludiert werden konnte. Jeder Teilnehmer kann aus einer bunten Palette von Themenbausteinen ... 
URL:https://bayerische-schachjugend.de/event/bayerische-schachakademie-2/
LOCATION:Sachsen
CATEGORIES:Ausbildung
END:VEVENT
BEGIN:VEVENT
DTSTART;TZID=Europe/Berlin:20210903T170000
DTEND;TZID=Europe/Berlin:20210908T123000
DTSTAMP:20260419T232152
CREATED:20210316T180303Z
LAST-MODIFIED:20210807T080200Z
UID:6622-1630688400-1631104200@bayerische-schachjugend.de
SUMMARY:Bayerische Mädchentrainerinnenausbildung
DESCRIPTION:Wir möchten die Trainerinnenquote in unseren bayerischen Vereinen deutlich erhöhen und bieten deshalb extra eine Ausbildung für Damen an. In den ersten Tagen lernen die Teilnehmerinnen einiges an theoretischen Fähigkeiten (Pädagogik\, Aufsichtspflicht etc.) und  planen eine Freizeit für junge Mädels mit vielen spannenden Aktionen und Training. In der zweiten Hälfte werden die neu erlernten ... 
URL:https://bayerische-schachjugend.de/event/bayerische-maedchenbetreuerinnenausbildung/
LOCATION:Sachsen
CATEGORIES:Mädchenschach
END:VEVENT
BEGIN:VEVENT
DTSTART;TZID=Europe/Berlin:20210904T140000
DTEND;TZID=Europe/Berlin:20210904T170000
DTSTAMP:20260419T232152
CREATED:20210722T205050Z
LAST-MODIFIED:20210722T205050Z
UID:7381-1630764000-1630774800@bayerische-schachjugend.de
SUMMARY:Deutsch-Russisches Tandemturnier
DESCRIPTION:Online-Tandemturnier für jedermann (Jugend+ Erw.). Regel: Ein Spieler muss aus Russland\, einer aus Deutschland stammen\nweitere Infos beim Ausrichter
URL:https://bayerische-schachjugend.de/event/deutsch-russisches-tandemturnier/
LOCATION:Sachsen
CATEGORIES:Andere Turniere
ORGANIZER;CN="SC H%C3%B6chstadt":MAILTO:webmaster@sc-hoechstadt.de
END:VEVENT
BEGIN:VEVENT
DTSTART;VALUE=DATE:20210905
DTEND;VALUE=DATE:20210909
DTSTAMP:20260419T232152
CREATED:20210316T180412Z
LAST-MODIFIED:20210807T080501Z
UID:6624-1630800000-1631145599@bayerische-schachjugend.de
SUMMARY:Bayerisches Mädchencamp
DESCRIPTION:Die BSJ veranstaltet für junge Madels unter 14 Jahre eine Freizeit. Wer Anfang September einige schöne Tage mit Schach und viel Spaß verbringen möchte\, sollte sich rasch bis zum 14. August anmelden\, da noch wenige Plätze frei sind. \nAusschreibung: JubiMädelscamp
URL:https://bayerische-schachjugend.de/event/bayerisches-maedchencamp/
LOCATION:Sachsen
CATEGORIES:Mädchenschach
END:VEVENT
BEGIN:VEVENT
DTSTART;TZID=Europe/Berlin:20210905T140000
DTEND;TZID=Europe/Berlin:20210905T170000
DTSTAMP:20260419T232152
CREATED:20210722T205224Z
LAST-MODIFIED:20210722T205708Z
UID:7383-1630850400-1630861200@bayerische-schachjugend.de
SUMMARY:Blitzturnier anlässlich des Höchstadter Städtepartnerschaftsturniers
DESCRIPTION:Offenes Blitzturnier (Erw. + Jugend) für jeden Vereinsspieler (weltweit) auf Lichess \nweitere Infos beim Ausrichter
URL:https://bayerische-schachjugend.de/event/blitzturnier-anlaesslich-des-hoechstadter-staedtepartnerschaftsturniers/
LOCATION:Sachsen
CATEGORIES:Andere Turniere
ORGANIZER;CN="SC H%C3%B6chstadt":MAILTO:webmaster@sc-hoechstadt.de
END:VEVENT
BEGIN:VEVENT
DTSTART;TZID=Europe/Berlin:20210915T190000
DTEND;TZID=Europe/Berlin:20210915T203000
DTSTAMP:20260419T232152
CREATED:20210907T165437Z
LAST-MODIFIED:20210912T094309Z
UID:7724-1631732400-1631737800@bayerische-schachjugend.de
SUMMARY:Onlineseminar: Wie gestalte ich eine gute Unterrichtsstunde? [AUSGEBUCHT]
DESCRIPTION:Was? Wie bringt man einen roten Faden rein? Wie kann man verschiedene Spielstärkegruppen ansprechen? Anhand mehrerer Praxisbeispiele wird dieses Thema mit den Teilnehmern erarbeitet. \nReferent? Hermann Rogge (Gründer Schachschule Schachdiamanten aus Wolfratshausen) https://www.schach-diamanten.de/ \nWann? Mittwoch\, 15. September 2021 um 19 – 20:30 Uhr \nKosten? Keine \n\nAnmeldung? Formlose Mail an lehrgaenge@bayerische-schachjugend.de\, ... 
URL:https://bayerische-schachjugend.de/event/onlineseminar-wie-bereitet-man-eine-unterrichtsstunde-vor/
LOCATION:Sachsen
CATEGORIES:Ausbildung
END:VEVENT
BEGIN:VEVENT
DTSTART;VALUE=DATE:20210923
DTEND;VALUE=DATE:20210924
DTSTAMP:20260419T232152
CREATED:20210908T061459Z
LAST-MODIFIED:20240722T074821Z
UID:7734-1632355200-1632441599@bayerische-schachjugend.de
SUMMARY:Die Schachnovelle Premiere
DESCRIPTION:Wer kennt sie nicht aus der Schule\, die Schachnovelle. Erstmalig wird sie am 23. September im Central Kino in Hof gezeigt. Infos und Anmeldung an presse@schachbezirk-oberfranken.de
URL:https://bayerische-schachjugend.de/event/die-schachnovelle-premiere/
LOCATION:Sachsen
CATEGORIES:Weitere Termine
END:VEVENT
BEGIN:VEVENT
DTSTART;VALUE=DATE:20210926
DTEND;VALUE=DATE:20210927
DTSTAMP:20260419T232152
CREATED:20210924T104637Z
LAST-MODIFIED:20210924T113342Z
UID:7233-1632614400-1632700799@bayerische-schachjugend.de
SUMMARY:U10 MM - Abgabeschluss der Mannschaftsmeldungen
DESCRIPTION:
URL:https://bayerische-schachjugend.de/event/u10-mm-abgabeschluss-der-mannschaftsmeldungen/
LOCATION:Sachsen
CATEGORIES:BSJ-Mannschaftsmeisterschaften
END:VEVENT
BEGIN:VEVENT
DTSTART;TZID=Europe/Berlin:20210926T110000
DTEND;TZID=Europe/Berlin:20210926T180000
DTSTAMP:20260419T232152
CREATED:20210902T184358Z
LAST-MODIFIED:20210902T184639Z
UID:7691-1632654000-1632679200@bayerische-schachjugend.de
SUMMARY:Bayerische Mädchen-Mannschaftsmeisterschaft 2021
DESCRIPTION:AusschreibungMMw2021 \n  \n 
URL:https://bayerische-schachjugend.de/event/bayerische-maedchen-mannschaftsmeisterschaft-2021/
LOCATION:Werner-Heisenberg-Gymnasium Garching\, Professor-Angermair-Ring 40\, 85748 Garching bei München
CATEGORIES:Mädchenschach
END:VEVENT
BEGIN:VEVENT
DTSTART;TZID=Europe/Berlin:20210928T190000
DTEND;TZID=Europe/Berlin:20210928T203000
DTSTAMP:20260419T232152
CREATED:20210815T220038Z
LAST-MODIFIED:20210908T183845Z
UID:7533-1632855600-1632861000@bayerische-schachjugend.de
SUMMARY:Onlinestammtisch: Deine Stimme zählt!
DESCRIPTION:Themen: \n\nMitgliedergewinnung\nÜbungsleiterausbildung- und verlängerung\nDSB-Kongress\nEure Wünsche\, Themen oder Ideen. Wir sind – wie immer – offen für alles.\n\nAnmeldung; lehrgaenge@bayerische-schachjugend.de
URL:https://bayerische-schachjugend.de/event/onlinestammtisch-3/
LOCATION:Sachsen
END:VEVENT
END:VCALENDAR