BEGIN:VCALENDAR
VERSION:2.0
PRODID:-//Bayerische Schachjugend - ECPv6.15.18//NONSGML v1.0//EN
CALSCALE:GREGORIAN
METHOD:PUBLISH
X-ORIGINAL-URL:https://bayerische-schachjugend.de
X-WR-CALDESC:Veranstaltungen für Bayerische Schachjugend
REFRESH-INTERVAL;VALUE=DURATION:PT1H
X-Robots-Tag:noindex
X-PUBLISHED-TTL:PT1H
BEGIN:VTIMEZONE
TZID:Europe/Berlin
BEGIN:DAYLIGHT
TZOFFSETFROM:+0100
TZOFFSETTO:+0200
TZNAME:CEST
DTSTART:20200329T010000
END:DAYLIGHT
BEGIN:STANDARD
TZOFFSETFROM:+0200
TZOFFSETTO:+0100
TZNAME:CET
DTSTART:20201025T010000
END:STANDARD
BEGIN:DAYLIGHT
TZOFFSETFROM:+0100
TZOFFSETTO:+0200
TZNAME:CEST
DTSTART:20210328T010000
END:DAYLIGHT
BEGIN:STANDARD
TZOFFSETFROM:+0200
TZOFFSETTO:+0100
TZNAME:CET
DTSTART:20211031T010000
END:STANDARD
BEGIN:DAYLIGHT
TZOFFSETFROM:+0100
TZOFFSETTO:+0200
TZNAME:CEST
DTSTART:20220327T010000
END:DAYLIGHT
BEGIN:STANDARD
TZOFFSETFROM:+0200
TZOFFSETTO:+0100
TZNAME:CET
DTSTART:20221030T010000
END:STANDARD
END:VTIMEZONE
BEGIN:VEVENT
DTSTART;VALUE=DATE:20210702
DTEND;VALUE=DATE:20210705
DTSTAMP:20260420T031559
CREATED:20200524T144018Z
LAST-MODIFIED:20210614T212424Z
UID:4890-1625184000-1625443199@bayerische-schachjugend.de
SUMMARY:D1 incl. Talentsichtungslehrgang
DESCRIPTION:Ausschreibung
URL:https://bayerische-schachjugend.de/event/d1-incl-talentsichtungslehrgang-2/
LOCATION:Jugendherberge Gunzenhausen\, Spitalstraße\, Gunzenhausen\, 91710
CATEGORIES:Leistungssport
END:VEVENT
BEGIN:VEVENT
DTSTART;TZID=Europe/Berlin:20210711T100000
DTEND;TZID=Europe/Berlin:20210711T170000
DTSTAMP:20260420T031559
CREATED:20201103T095132Z
LAST-MODIFIED:20210610T215652Z
UID:5989-1625997600-1626022800@bayerische-schachjugend.de
SUMMARY:Abgesagt: 10. Altöttinger Jugend- und Junioren-Open
DESCRIPTION:Das Turnier musste leider wegen zu hoher Auflagen des Gesaundheitsamts abgesagt werden. \n20210721_AusschreibungAltötting_2021
URL:https://bayerische-schachjugend.de/event/10-altoettinger-jugend-und-junioren-open/
LOCATION:Gasthaus Reiterhof\, Hauptstraße 10\, Teising\, Bayern\, 84576\, Deutschland
CATEGORIES:Andere Turniere
ORGANIZER;CN="TV 1864 Alt%C3%B6tting":MAILTO:stadler@t-online.de
END:VEVENT
BEGIN:VEVENT
DTSTART;TZID=Europe/Berlin:20210717T110000
DTEND;TZID=Europe/Berlin:20210717T170000
DTSTAMP:20260420T031559
CREATED:20210516T141451Z
LAST-MODIFIED:20210516T141519Z
UID:6958-1626519600-1626541200@bayerische-schachjugend.de
SUMMARY:BSJ-Delegiertenversammlung 2021
DESCRIPTION:Die Bayerische Schachjugend lädt ihre Ehrenmitglieder Gottlieb Kutschera und Helmut Stadler\, ihre Mitglieder des erweiterten Vorstands\, ihre Referenten\, ihre Vertreter des Schiedsgerichts\, die Bezirksjugendleiter und Delegierten der Bezirke und Peter Eberl zur Delegiertenversammlung ein. \nEinladung
URL:https://bayerische-schachjugend.de/event/bsj-delegiertenversammlung2021/
LOCATION:Ritter von Spix Schule\, 91315 Höchstadt\, Bergstraße 6\, Höchstadt\, 91315\, Deutschland
CATEGORIES:BSJ-Funktionär
END:VEVENT
BEGIN:VEVENT
DTSTART;TZID=Europe/Berlin:20210731T100000
DTEND;TZID=Europe/Berlin:20210731T160000
DTSTAMP:20260420T031559
CREATED:20210626T133000Z
LAST-MODIFIED:20210626T133037Z
UID:7259-1627725600-1627747200@bayerische-schachjugend.de
SUMMARY:2.Rudolf-Glenk-Cup
DESCRIPTION:Am Samstag\, den 31.07.2021 wird der Schachclub Forchheim den 2. Rudolf-Glenk-Cup veranstalten. Gespielt wird\, wie auch das letzte Mal in DWZ-Spielklassen\, nicht in Altersklassen. Beachtet bitte\, dass aufgrund der Saalgröße nur maximal 40 Teilnehmer erlaubt sind. Wir freuen uns über zahlreiche Anmeldungen. \nModus Schnellschach 7 Runden á 20 Minuten pro Spieler. \nAchtung! Auf 40 Spieler begrenzt! \n\n ... 
URL:https://bayerische-schachjugend.de/event/2-rudolf-glenk-cup-2/
LOCATION:SC Forchheim\, Schützenstraße 26\, Forchheim\, Bayern\, 91301
CATEGORIES:Andere Turniere
ORGANIZER;CN="SC Forchheim":MAILTO:jugend-open.forchheim@gmx.de
END:VEVENT
END:VCALENDAR