BEGIN:VCALENDAR
VERSION:2.0
PRODID:-//Bayerische Schachjugend - ECPv6.15.18//NONSGML v1.0//EN
CALSCALE:GREGORIAN
METHOD:PUBLISH
X-ORIGINAL-URL:https://bayerische-schachjugend.de
X-WR-CALDESC:Veranstaltungen für Bayerische Schachjugend
REFRESH-INTERVAL;VALUE=DURATION:PT1H
X-Robots-Tag:noindex
X-PUBLISHED-TTL:PT1H
BEGIN:VTIMEZONE
TZID:Europe/Berlin
BEGIN:DAYLIGHT
TZOFFSETFROM:+0100
TZOFFSETTO:+0200
TZNAME:CEST
DTSTART:20200329T010000
END:DAYLIGHT
BEGIN:STANDARD
TZOFFSETFROM:+0200
TZOFFSETTO:+0100
TZNAME:CET
DTSTART:20201025T010000
END:STANDARD
BEGIN:DAYLIGHT
TZOFFSETFROM:+0100
TZOFFSETTO:+0200
TZNAME:CEST
DTSTART:20210328T010000
END:DAYLIGHT
BEGIN:STANDARD
TZOFFSETFROM:+0200
TZOFFSETTO:+0100
TZNAME:CET
DTSTART:20211031T010000
END:STANDARD
BEGIN:DAYLIGHT
TZOFFSETFROM:+0100
TZOFFSETTO:+0200
TZNAME:CEST
DTSTART:20220327T010000
END:DAYLIGHT
BEGIN:STANDARD
TZOFFSETFROM:+0200
TZOFFSETTO:+0100
TZNAME:CET
DTSTART:20221030T010000
END:STANDARD
END:VTIMEZONE
BEGIN:VEVENT
DTSTART;TZID=Europe/Berlin:20210405T140000
DTEND;TZID=Europe/Berlin:20210411T170000
DTSTAMP:20260420T063251
CREATED:20210405T054834Z
LAST-MODIFIED:20210405T054834Z
UID:6781-1617631200-1618160400@bayerische-schachjugend.de
SUMMARY:Jana Schneider: Deutsche Kaderchallenge Magdeburg
DESCRIPTION:Jana Schneider spielt das Deutsche Kaderturnier in Magdeburg mit. \nLink zu den Ergebnissen: http://chess-results.com/tnr554725.aspx?lan=0&art=0&turdet=YES \nLink zur Livekommentierung: https://www.twitch.tv/schachdeutschlandtv
URL:https://bayerische-schachjugend.de/event/jana-schneider-deutsche-kaderchallenge-magdeburg/
LOCATION:Sachsen
CATEGORIES:Leistungssport
END:VEVENT
BEGIN:VEVENT
DTSTART;TZID=Europe/Berlin:20210407T190000
DTEND;TZID=Europe/Berlin:20210407T203000
DTSTAMP:20260420T063251
CREATED:20210215T073610Z
LAST-MODIFIED:20210322T192601Z
UID:6453-1617822000-1617827400@bayerische-schachjugend.de
SUMMARY:Stammtisch: Zukunftsideen\, Verbandsentwicklung & Schachpolitik/Engagement
DESCRIPTION:7. April um 19:00 bis 20:30 Uhr \nEs wird mal wieder Zeit für einen Onlinestammtisch\, bei dem in lockerer Runde über verrückte Ideen und außergewöhnliiche Zukunftstrends philosophiert werden darf. Auch stehen personelle und und vor allem inhaltliche Weichenstellungen in unseren Verbänden (Bayern und nationale Ebene) an.\n \n Wir sind auf eure Anregungen und Unterstützung gespannt.\n \n\n ... 
URL:https://bayerische-schachjugend.de/event/stammtisch-zukunftsideen-verbandsentwicklung-schachpolitik/
LOCATION:Sachsen
CATEGORIES:Weitere Termine
END:VEVENT
BEGIN:VEVENT
DTSTART;TZID=Europe/Berlin:20210409T180000
DTEND;TZID=Europe/Berlin:20210410T200000
DTSTAMP:20260420T063251
CREATED:20210405T094633Z
LAST-MODIFIED:20210405T094808Z
UID:6784-1617991200-1618084800@bayerische-schachjugend.de
SUMMARY:Länderkampf Bayern vs Hessen
DESCRIPTION:In der U18 und U20 messen wir uns in jeweils zwei Viererteams dieses mal mit unseren Nachbarn aus Hessen. \nUm höherklassiges Schach darbieten zu können wurde die Bedenkzeit auf 45min + 15s erhöht\, es werden vier Partien im Scheveninger Modus (jeder gegen jeden des gegnerischen Teams) gespielt. \nBayerische Aufstellung \nU18: Jana Bardorz\, Leonardo Costa\, Lukas Köhler und Tobias Kolb \n\nU20: Benedikt Huber\, ... 
URL:https://bayerische-schachjugend.de/event/laenderkampf-bayern-vs-hessen/
LOCATION:Sachsen
CATEGORIES:Leistungssport
END:VEVENT
BEGIN:VEVENT
DTSTART;TZID=Europe/Berlin:20210410T093000
DTEND;TZID=Europe/Berlin:20210410T130000
DTSTAMP:20260420T063251
CREATED:20210316T113424Z
LAST-MODIFIED:20210405T154627Z
UID:6611-1618047000-1618059600@bayerische-schachjugend.de
SUMMARY:Online Rapid Deisenhofen
DESCRIPTION:Teil der Online RAPID-Serie 2021 auf Lichess \nWeitere Informationen: Online RAPID-Serie 2021 – Bayerische Schachjugend (bayerische-schachjugend.de)
URL:https://bayerische-schachjugend.de/event/online-rapid-deisenhofen/
LOCATION:Sachsen
CATEGORIES:BSJ-Turniere,Internet Grand-Prix
END:VEVENT
BEGIN:VEVENT
DTSTART;TZID=Europe/Berlin:20210411T143000
DTEND;TZID=Europe/Berlin:20210411T160000
DTSTAMP:20260420T063251
CREATED:20210314T161649Z
LAST-MODIFIED:20210317T204139Z
UID:6596-1618151400-1618156800@bayerische-schachjugend.de
SUMMARY:Jugendländerliga
DESCRIPTION:um 14:30-16:00 \nLink: https://www.deutsche-schachjugend.de/termine/2021/jugendlaenderliga-4/
URL:https://bayerische-schachjugend.de/event/jugendlaenderliga/
LOCATION:Sachsen
CATEGORIES:Andere Turniere
END:VEVENT
BEGIN:VEVENT
DTSTART;TZID=Europe/Berlin:20210415T170000
DTEND;TZID=Europe/Berlin:20210415T190000
DTSTAMP:20260420T063251
CREATED:20210327T140337Z
LAST-MODIFIED:20210327T140337Z
UID:6747-1618506000-1618513200@bayerische-schachjugend.de
SUMMARY:Offenes Lichess Freundschaftsturnier für U12+U18-Mannschaften
DESCRIPTION:Infos
URL:https://bayerische-schachjugend.de/event/offenes-lichess-freundschaftsturnier-fuer-u12u18-mannschaften-2/
LOCATION:Sachsen
CATEGORIES:Andere Turniere
ORGANIZER;CN="Schachfreunde Tegernheim":MAILTO:brunhilde_fischer@web.de
END:VEVENT
BEGIN:VEVENT
DTSTART;TZID=Europe/Berlin:20210421T190000
DTEND;TZID=Europe/Berlin:20210421T203000
DTSTAMP:20260420T063251
CREATED:20210218T104443Z
LAST-MODIFIED:20210530T082349Z
UID:6477-1619031600-1619037000@bayerische-schachjugend.de
SUMMARY:Onlineseminar: 10 Dinge\, die ein e.V. nicht tun sollte
DESCRIPTION:Anhand konkreter und tatsächlich vorgekommener Beispiele in den letzten Monaten und Jahren wird aufgezeigt\,  was man tunlichst als Vorsitzender\, Stellvertreter sowie Finanzreferent unterlassen sollte\, um nicht in Teufelsküche zu kommen oder gar die Gemeinnützigkeit zu verlieren. \n\nDas Seminar konnte nicht durchgeführt werden. Aufgrund der hohen Nachfrage\, die uns kürzlich sogar auch aus anderen ... 
URL:https://bayerische-schachjugend.de/event/onlineseminar-10-dinge-die-ein-e-v-nicht-tun-sollte/
LOCATION:Sachsen
CATEGORIES:Ausbildung
END:VEVENT
END:VCALENDAR