BEGIN:VCALENDAR
VERSION:2.0
PRODID:-//Bayerische Schachjugend - ECPv6.15.18//NONSGML v1.0//EN
CALSCALE:GREGORIAN
METHOD:PUBLISH
X-WR-CALNAME:Bayerische Schachjugend
X-ORIGINAL-URL:https://bayerische-schachjugend.de
X-WR-CALDESC:Veranstaltungen für Bayerische Schachjugend
REFRESH-INTERVAL;VALUE=DURATION:PT1H
X-Robots-Tag:noindex
X-PUBLISHED-TTL:PT1H
BEGIN:VTIMEZONE
TZID:Europe/Berlin
BEGIN:DAYLIGHT
TZOFFSETFROM:+0100
TZOFFSETTO:+0200
TZNAME:CEST
DTSTART:20240331T010000
END:DAYLIGHT
BEGIN:STANDARD
TZOFFSETFROM:+0200
TZOFFSETTO:+0100
TZNAME:CET
DTSTART:20241027T010000
END:STANDARD
BEGIN:DAYLIGHT
TZOFFSETFROM:+0100
TZOFFSETTO:+0200
TZNAME:CEST
DTSTART:20250330T010000
END:DAYLIGHT
BEGIN:STANDARD
TZOFFSETFROM:+0200
TZOFFSETTO:+0100
TZNAME:CET
DTSTART:20251026T010000
END:STANDARD
BEGIN:DAYLIGHT
TZOFFSETFROM:+0100
TZOFFSETTO:+0200
TZNAME:CEST
DTSTART:20260329T010000
END:DAYLIGHT
BEGIN:STANDARD
TZOFFSETFROM:+0200
TZOFFSETTO:+0100
TZNAME:CET
DTSTART:20261025T010000
END:STANDARD
BEGIN:DAYLIGHT
TZOFFSETFROM:+0100
TZOFFSETTO:+0200
TZNAME:CEST
DTSTART:20270328T010000
END:DAYLIGHT
BEGIN:STANDARD
TZOFFSETFROM:+0200
TZOFFSETTO:+0100
TZNAME:CET
DTSTART:20271031T010000
END:STANDARD
END:VTIMEZONE
BEGIN:VEVENT
DTSTART;VALUE=DATE:20260412
DTEND;VALUE=DATE:20260413
DTSTAMP:20260421T013010
CREATED:20250624T220038Z
LAST-MODIFIED:20260216T160514Z
UID:2393-1775952000-1776038399@bayerische-schachjugend.de
SUMMARY:U12 MM - Abgabeschluss Mannschaftsaufstellungen
DESCRIPTION:Bis zu diesem Termin sind die namentlichen Mannschaftsaufstellungen im Ligamanager durch die Vereine einzupflegen.\nDie Aufstellungen können bis zu diesem Abgabetermin jederzeit geändert werden. \n 
URL:https://bayerische-schachjugend.de/event/u12-mm-abgabeschluss-mannschaftsaufstellungen/
LOCATION:Sachsen
CATEGORIES:BSJ-Mannschaftsmeisterschaften
END:VEVENT
BEGIN:VEVENT
DTSTART;TZID=Europe/Berlin:20260406T150000
DTEND;TZID=Europe/Berlin:20260410T170000
DTSTAMP:20260421T013010
CREATED:20251012T153021Z
LAST-MODIFIED:20260322T124919Z
UID:16565-1775487600-1775840400@bayerische-schachjugend.de
SUMMARY:BMEM 2026 >>> Bayerische Mädchen Einzelmeisterschaft
DESCRIPTION:  \nWichtige Informationen! >>>KLICK<<< \n  \n_______________________________________________________________________________ \n  \nBMEM 2026 (U8w): Sonntag 15. März in Ingolstadt >>>KLICK<<< \nBMEM 2026 (U10w – U18w): 6. April (Ostermontag) bis inkl. 10. April auf Burg Wernfels in Spalt \n  \nDie Anmeldung ist geschlossen.  \n\n ... 
URL:https://bayerische-schachjugend.de/event/bmem-2026-bayerische-maedchen-einzelmeisterschaft/
LOCATION:Jugendherberge Burg Wernfels\, Burgweg 7-9\, Spalt\, Bayern\, 91174\, Germany
CATEGORIES:BSJ-Einzelmeisterschaft,Mädchenschach
ATTACH;FMTTYPE=image/jpeg:https://bayerische-schachjugend.de/wp-content/uploads/Burg-Wernfels-scaled.jpg
END:VEVENT
BEGIN:VEVENT
DTSTART;VALUE=DATE:20260406
DTEND;VALUE=DATE:20260411
DTSTAMP:20260421T013010
CREATED:20250624T220034Z
LAST-MODIFIED:20250625T191146Z
UID:6807-1775433600-1775865599@bayerische-schachjugend.de
SUMMARY:BJEM U10 - U18
DESCRIPTION:Die Bayerischen Jugend-Einzelmeisterschaften für die Gruppen U10 bis U18 finden wieder in Bad Kissingen statt.
URL:https://bayerische-schachjugend.de/event/bjem-u10-bis-u18/
LOCATION:Jugendherberge Heiligenhof\, Alte Euerdorfer Str. 1\, 97688 Bad Kissingen
CATEGORIES:BSJ-Einzelmeisterschaft
END:VEVENT
BEGIN:VEVENT
DTSTART;TZID=Europe/Berlin:20260328T100000
DTEND;TZID=Europe/Berlin:20260328T170000
DTSTAMP:20260421T013010
CREATED:20250624T220031Z
LAST-MODIFIED:20260222T014159Z
UID:9769-1774692000-1774717200@bayerische-schachjugend.de
SUMMARY:RAPID-Turnier Deisenhofen
DESCRIPTION:Ausschreibung \nZur Anmeldung beim Ausrichter geht es hier entlang.
URL:https://bayerische-schachjugend.de/event/rapid-turnier-deisenhofen/
LOCATION:Kyberg-Halle Oberhaching\, Kastanienallee 18\, Oberhaching\, Bayern\, 82041\, Deutschland
CATEGORIES:BSJ-Turniere
ORGANIZER;CN="SF Deisenhofen":MAILTO:hari8@web.de
END:VEVENT
BEGIN:VEVENT
DTSTART;VALUE=DATE:20260322
DTEND;VALUE=DATE:20260323
DTSTAMP:20260421T013010
CREATED:20250624T220031Z
LAST-MODIFIED:20260216T160705Z
UID:2391-1774137600-1774223999@bayerische-schachjugend.de
SUMMARY:U12 MM - Abgabeschluss Mannschaftsmeldungen
DESCRIPTION:Es können sich Mannschaften solange melden\, bis die Teilnehmerzahl von 32 erreicht ist.
URL:https://bayerische-schachjugend.de/event/u12-mm-abgabeschluss-mannschaftsmeldungen/
LOCATION:Sachsen
CATEGORIES:BSJ-Mannschaftsmeisterschaften
END:VEVENT
BEGIN:VEVENT
DTSTART;VALUE=DATE:20260321
DTEND;VALUE=DATE:20260322
DTSTAMP:20260421T013010
CREATED:20260209T172950Z
LAST-MODIFIED:20260209T172950Z
UID:16876-1774051200-1774137599@bayerische-schachjugend.de
SUMMARY:Bayerische Schulschachmeisterschaft in Nürnberg
DESCRIPTION:
URL:https://bayerische-schachjugend.de/event/bayerische-schulschachmeisterschaft-in-nuernberg/
LOCATION:Sachsen
END:VEVENT
BEGIN:VEVENT
DTSTART;TZID=Europe/Berlin:20260315T090000
DTEND;TZID=Europe/Berlin:20260315T180000
DTSTAMP:20260421T013010
CREATED:20251012T153454Z
LAST-MODIFIED:20260316T222216Z
UID:16563-1773565200-1773597600@bayerische-schachjugend.de
SUMMARY:BMEM U8w in Ingolstadt
DESCRIPTION:  \nLiebe Schachmädels\, \nliebe Betreuer\, Bezirksjugendleiter\, Eltern\, Trainer und Vereine\, \n  \nam Sonntag\, den 15. März 2026\, findet nun zum 2. Mal unsere Bayerische Mädchen-Einzelmeisterschaft in der Altersklasse U8w separat als reines Mädchenturnier statt. \n\nErneut hat sich der MTV Ingolstadt (Leonhard Slesiona) ... 
URL:https://bayerische-schachjugend.de/event/bmem-u8w-in-tbd/
LOCATION:Jugendzentrum FRONTE 79\, Jahnstraße 25\, Ingolstadt\, Bayern\, 85049\, Germany
CATEGORIES:BSJ-Turniere,Mädchenschach
ATTACH;FMTTYPE=image/jpeg:https://bayerische-schachjugend.de/wp-content/uploads/BMEM-2026-U8wKaminzimmer-2026-scaled.jpg
ORGANIZER;CN="MTV Ingolstadt":MAILTO:mtv_schach_jugend@mtv-in.de
END:VEVENT
BEGIN:VEVENT
DTSTART;VALUE=DATE:20260315
DTEND;VALUE=DATE:20260316
DTSTAMP:20260421T013010
CREATED:20250614T220018Z
LAST-MODIFIED:20250625T185624Z
UID:14294-1773532800-1773619199@bayerische-schachjugend.de
SUMMARY:EM - Meldeschluss für alle Spielerinnen und Spieler
DESCRIPTION:Bis zu diesem Termin müssen alle Anmeldungen getätigt und abgeschlossen sein.
URL:https://bayerische-schachjugend.de/event/em-meldeschluss-fuer-alle-spielerinnen-und-spieler/
LOCATION:Sachsen
CATEGORIES:BSJ-Einzelmeisterschaft
END:VEVENT
BEGIN:VEVENT
DTSTART;TZID=Europe/Berlin:20260314T080000
DTEND;TZID=Europe/Berlin:20260314T170000
DTSTAMP:20260421T013010
CREATED:20250624T220039Z
LAST-MODIFIED:20250625T185024Z
UID:14121-1773475200-1773507600@bayerische-schachjugend.de
SUMMARY:RAPID-Turnier Schweinfurt
DESCRIPTION:Ausschreibung
URL:https://bayerische-schachjugend.de/event/rapid-turnier-schweinfurt/
LOCATION:Sachsen
CATEGORIES:BSJ-Turniere
ORGANIZER;CN="SK Schweinfurt":MAILTO:rapidturnier@schachklub-schweinfurt-2000.de
END:VEVENT
BEGIN:VEVENT
DTSTART;TZID=Europe/Berlin:20260307T100000
DTEND;TZID=Europe/Berlin:20260307T190000
DTSTAMP:20260421T013010
CREATED:20250624T220006Z
LAST-MODIFIED:20250625T183438Z
UID:5802-1772877600-1772910000@bayerische-schachjugend.de
SUMMARY:6./7. Runde MM U20
DESCRIPTION:
URL:https://bayerische-schachjugend.de/event/6-7-runde-mm-u20/
LOCATION:Sachsen
CATEGORIES:BSJ-Mannschaftsmeisterschaften
END:VEVENT
BEGIN:VEVENT
DTSTART;VALUE=DATE:20260306
DTEND;VALUE=DATE:20260309
DTSTAMP:20260421T013010
CREATED:20250624T220038Z
LAST-MODIFIED:20250625T184403Z
UID:6812-1772755200-1773014399@bayerische-schachjugend.de
SUMMARY:BJEM U8
DESCRIPTION:Die Bayerischen Jugendeinzelmeisterschaften der U8 finden wieder in Kronach (Ofr.) statt.
URL:https://bayerische-schachjugend.de/event/bjem-u8-u8w/
LOCATION:Schullandheim Kronach\, Hammermühle 4\, Kronach\, Bayern\, 96317
CATEGORIES:BSJ-Einzelmeisterschaft
END:VEVENT
BEGIN:VEVENT
DTSTART;VALUE=DATE:20260301
DTEND;VALUE=DATE:20260302
DTSTAMP:20260421T013010
CREATED:20250624T220048Z
LAST-MODIFIED:20250625T190703Z
UID:2400-1772323200-1772409599@bayerische-schachjugend.de
SUMMARY:EM - Abgabeschluss Freiplatzanträge
DESCRIPTION:Bis zu diesem Termin sind über das Anmeldetool (www.bjem.de) die Freiplatzanträge zu stellen. Die Entscheidung über die Freiplätze fällt im Laufe der folgenden Woche. \nEine mögliche Ablehnung eines solchen Antrages durch die BSJ wird  nicht  begründet.
URL:https://bayerische-schachjugend.de/event/em-abgabeschluss-freiplatzantraege/
LOCATION:Sachsen
CATEGORIES:BSJ-Einzelmeisterschaft
END:VEVENT
BEGIN:VEVENT
DTSTART;VALUE=DATE:20260301
DTEND;VALUE=DATE:20260302
DTSTAMP:20260421T013010
CREATED:20250624T220034Z
LAST-MODIFIED:20250625T185856Z
UID:2398-1772323200-1772409599@bayerische-schachjugend.de
SUMMARY:EM - Meldeschluss qualifizierte Spieler
DESCRIPTION:Bis zu diesem Termin haben Spieler mit einer Vorberechtigung und die über die Bezirke qualifizierten Spieler die Möglichkeit\, sich über das Anmeldetool der BSJ (www.bjem.de) anzumelden.\nDie Anmeldung umfasst die Zusage der Teilnahme und ggf. die Zimmerbuchungen. \n\nDas Teilnahmeformular mit den Unterschriften der Spieler und Erziehungsberechtigten ist bis 15.03.2026 beizubringen\, ebenfalls sind bis ... 
URL:https://bayerische-schachjugend.de/event/em-meldeschluss-qualifizierte-spieler/
LOCATION:Sachsen
CATEGORIES:BSJ-Einzelmeisterschaft
END:VEVENT
BEGIN:VEVENT
DTSTART;VALUE=DATE:20260214
DTEND;VALUE=DATE:20260215
DTSTAMP:20260421T013010
CREATED:20250624T220026Z
LAST-MODIFIED:20260104T192358Z
UID:2322-1771027200-1771113599@bayerische-schachjugend.de
SUMMARY:RAPID-Turnier Neumarkt und Bayerische Jugendschnellschach-EM U25
DESCRIPTION:Ausschreibungen beim Ausrichter (SK Neumarkt): \nRapidturniere U8 – U16 \nBayerische Schnellschach-EM U25 \nZur Anmeldeseite des Ausrichters geht es hier entlang. \nFür die Teilnahme an der Schnellschach-EM U25 ist zu Turnierbeginn eine FIDE-ID notwendig!
URL:https://bayerische-schachjugend.de/event/rapid-turnier-neumarkt/
LOCATION:Willibald-Gluck-Gymnasium Neumarkt i.d.Opf.\, Woffenbacherstraße 33\, Neumarkt i.d.Opf.\, Bayern\, 92318\, Germany
CATEGORIES:BSJ-Turniere
END:VEVENT
BEGIN:VEVENT
DTSTART;VALUE=DATE:20260131
DTEND;VALUE=DATE:20260202
DTSTAMP:20260421T013010
CREATED:20251015T154036Z
LAST-MODIFIED:20251015T154036Z
UID:16585-1769817600-1769990399@bayerische-schachjugend.de
SUMMARY:C-Trainer Ausbildung
DESCRIPTION:4. Modul \nWeitere Informationen auf der Webseite des bayerischen Schachbunds: \nC-Trainer-Ausbildung Kurse 2025 (Stand 12.10.2025) – Verschiebung des Kursbeginns – Bayerischer Schachbund e.V. \n 
URL:https://bayerische-schachjugend.de/event/c-trainer-ausbildung-5/
LOCATION:Sachsen
CATEGORIES:Ausbildung
END:VEVENT
BEGIN:VEVENT
DTSTART;TZID=Europe/Berlin:20260124T100000
DTEND;TZID=Europe/Berlin:20260124T190000
DTSTAMP:20260421T013010
CREATED:20250624T220022Z
LAST-MODIFIED:20250625T183209Z
UID:5800-1769248800-1769281200@bayerische-schachjugend.de
SUMMARY:4./5. Runde MM U20
DESCRIPTION:
URL:https://bayerische-schachjugend.de/event/4-5-runde-mm-u20/
LOCATION:Sachsen
CATEGORIES:BSJ-Mannschaftsmeisterschaften
END:VEVENT
BEGIN:VEVENT
DTSTART;VALUE=DATE:20260110
DTEND;VALUE=DATE:20260112
DTSTAMP:20260421T013010
CREATED:20250924T140315Z
LAST-MODIFIED:20251015T153800Z
UID:16426-1768003200-1768175999@bayerische-schachjugend.de
SUMMARY:C-Trainer Ausbildung
DESCRIPTION:3.Modul \nWeitere Informationen auf der Webseite des bayerischen Schachbunds: \nC-Trainer-Ausbildung Kurse 2025 (Stand 19.09.2025) – Bayerischer Schachbund e.V.
URL:https://bayerische-schachjugend.de/event/c-trainer-ausbildung-4/
LOCATION:Sachsen
CATEGORIES:Ausbildung
END:VEVENT
BEGIN:VEVENT
DTSTART;TZID=Europe/Berlin:20251223T180000
DTEND;TZID=Europe/Berlin:20251223T194500
DTSTAMP:20260421T013010
CREATED:20250920T180708Z
LAST-MODIFIED:20251102T121241Z
UID:16399-1766512800-1766519100@bayerische-schachjugend.de
SUMMARY:Super-Tuesday-Online-Training für U12-Mädels
DESCRIPTION:  \n17:00–18:45 Uhr – Schachtraining mit WGM Carmen Voicu-Jagodzinsky \n  \n>>>Anmeldung & Ausschreibung – KLICK<<<
URL:https://bayerische-schachjugend.de/event/super-tuesday-online-training-fuer-u12-maedels-4/
LOCATION:ONLINE
CATEGORIES:Mädchenschach
END:VEVENT
BEGIN:VEVENT
DTSTART;TZID=Europe/Berlin:20251214T090000
DTEND;TZID=Europe/Berlin:20251214T170000
DTSTAMP:20260421T013010
CREATED:20251115T095641Z
LAST-MODIFIED:20251115T095641Z
UID:16695-1765702800-1765731600@bayerische-schachjugend.de
SUMMARY:DWZ-Turnier in Lichtenfels
DESCRIPTION:Am 3. Advent findet im Lichtenfelser Meranier-Gymnasium das 16. Oberfränkische DWZ-Turnier statt. Dabei werden alle Angemeldeten nach Spielstärke in kleine Gruppen eingeteilt. In der U12 werden fünf Runden und in der Ü12 drei Runden gespielt. \n\nDas Turnier eignet sich besonders für Kinder und Anfänger\, die eine DWZ erspielen möchten. Gleichzeitig ist es aber auch ... 
URL:https://bayerische-schachjugend.de/event/dwz-turnier-in-lichtenfels/
LOCATION:Sachsen
CATEGORIES:DWZ-Pokalturniere
END:VEVENT
BEGIN:VEVENT
DTSTART;TZID=Europe/Berlin:20251213T100000
DTEND;TZID=Europe/Berlin:20251213T190000
DTSTAMP:20260421T013010
CREATED:20250624T220022Z
LAST-MODIFIED:20250625T183035Z
UID:5795-1765620000-1765652400@bayerische-schachjugend.de
SUMMARY:2./3. Runde MM U20
DESCRIPTION:
URL:https://bayerische-schachjugend.de/event/2-3-runde-mm-u20/
LOCATION:Sachsen
CATEGORIES:BSJ-Mannschaftsmeisterschaften
END:VEVENT
BEGIN:VEVENT
DTSTART;VALUE=DATE:20251129
DTEND;VALUE=DATE:20251201
DTSTAMP:20260421T013010
CREATED:20250924T140056Z
LAST-MODIFIED:20251015T153626Z
UID:16424-1764374400-1764547199@bayerische-schachjugend.de
SUMMARY:C-Trainer Ausbildung
DESCRIPTION:2. Modul \nWeitere Informationen auf der Webseite des bayerischen Schachbunds: \nC-Trainer-Ausbildung Kurse 2025 (Stand 19.09.2025) – Bayerischer Schachbund e.V.
URL:https://bayerische-schachjugend.de/event/c-trainer-ausbildung-3/
LOCATION:Sachsen
CATEGORIES:Ausbildung
END:VEVENT
BEGIN:VEVENT
DTSTART;TZID=Europe/Berlin:20251125T170000
DTEND;TZID=Europe/Berlin:20251125T184500
DTSTAMP:20260421T013010
CREATED:20250920T180115Z
LAST-MODIFIED:20251102T121301Z
UID:16394-1764090000-1764096300@bayerische-schachjugend.de
SUMMARY:Super-Tuesday-Online-Training für U12-Mädels
DESCRIPTION:  \n17:00–18:45 Uhr – Schachtraining mit WGM Josefine Safarli \n  \n>>>Anmeldung & Ausschreibung – KLICK<<<
URL:https://bayerische-schachjugend.de/event/super-tuesday-online-training-fuer-u12-maedels-3/
LOCATION:ONLINE
CATEGORIES:Mädchenschach
END:VEVENT
BEGIN:VEVENT
DTSTART;TZID=Europe/Berlin:20251122T140000
DTEND;TZID=Europe/Berlin:20251122T180000
DTSTAMP:20260421T013010
CREATED:20250624T220017Z
LAST-MODIFIED:20250625T182838Z
UID:5797-1763820000-1763834400@bayerische-schachjugend.de
SUMMARY:1. Runde MM U20
DESCRIPTION:
URL:https://bayerische-schachjugend.de/event/1-runde-mm-u20-2/
LOCATION:Sachsen
CATEGORIES:BSJ-Mannschaftsmeisterschaften
END:VEVENT
BEGIN:VEVENT
DTSTART;VALUE=DATE:20251122
DTEND;VALUE=DATE:20251124
DTSTAMP:20260421T013010
CREATED:20250924T135822Z
LAST-MODIFIED:20251015T153548Z
UID:16422-1763769600-1763942399@bayerische-schachjugend.de
SUMMARY:C-Trainer Ausbildung
DESCRIPTION:1.Modul \nWeitere Informationen auf der Webseite des bayerischen Schachbunds: \nC-Trainer-Ausbildung Kurse 2025 (Stand 19.09.2025) – Bayerischer Schachbund e.V.
URL:https://bayerische-schachjugend.de/event/c-trainer-ausbildung-2/
LOCATION:Sachsen
CATEGORIES:Ausbildung
END:VEVENT
BEGIN:VEVENT
DTSTART;TZID=Europe/Berlin:20251028T170000
DTEND;TZID=Europe/Berlin:20251028T184500
DTSTAMP:20260421T013010
CREATED:20250920T175859Z
LAST-MODIFIED:20250920T181335Z
UID:16392-1761670800-1761677100@bayerische-schachjugend.de
SUMMARY:Super-Tuesday-Online-Training für U12-Mädels
DESCRIPTION:  \n17:00–18:45 Uhr – Schachtraining mit WGM Tatjana Melamed \n  \n>>>Anmeldung & Ausschreibung – KLICK<<<
URL:https://bayerische-schachjugend.de/event/super-tuesday-online-training-fuer-u12-maedels-2/
LOCATION:ONLINE
CATEGORIES:Mädchenschach
END:VEVENT
BEGIN:VEVENT
DTSTART;TZID=Europe/Berlin:20251018T100000
DTEND;TZID=Europe/Berlin:20251018T140000
DTSTAMP:20260421T013010
CREATED:20250928T215540Z
LAST-MODIFIED:20250928T215540Z
UID:16495-1760781600-1760796000@bayerische-schachjugend.de
SUMMARY:Turnier für Anfänger und DWZ-Turnier bis 1200 in Kirchehrenbach / Nordbayern
DESCRIPTION:NeST 13\nSa\, 18. Oktober 2025\nSportheim Kirchehrenbach\nAusschreibung 13\nAnmeldestand\nAnfänger- und DWZ-Gruppe
URL:https://bayerische-schachjugend.de/event/turnier-fuer-anfaenger-und-dwz-turnier-bis-1200-in-kirchehrenbach-nordbayern/
LOCATION:Sportheim TSV Kirchehrenbach\, Sportplatzstr. 13\, Kirchehrenbach\, 91356
CATEGORIES:DWZ-Pokalturniere
END:VEVENT
BEGIN:VEVENT
DTSTART;VALUE=DATE:20251011
DTEND;VALUE=DATE:20251012
DTSTAMP:20260421T013010
CREATED:20250819T164427Z
LAST-MODIFIED:20250819T164740Z
UID:16255-1760140800-1760227199@bayerische-schachjugend.de
SUMMARY:Caissa Younglings Cup V 2025
DESCRIPTION:Ausschreibung 
URL:https://bayerische-schachjugend.de/event/caissa-younglings-cup-v-2025/
LOCATION:Caissa Center München\, Frankfurter Ring 193a\, 2. Stock West\, München\, 80807
CATEGORIES:Andere Turniere
END:VEVENT
BEGIN:VEVENT
DTSTART;VALUE=DATE:20251010
DTEND;VALUE=DATE:20251013
DTSTAMP:20260421T013010
CREATED:20250823T133940Z
LAST-MODIFIED:20250823T133940Z
UID:16281-1760054400-1760313599@bayerische-schachjugend.de
SUMMARY:Mädchenschachkongress
DESCRIPTION:Workshop in Frankfurt\,   10. – 12.10.2025\n\n  \nAuszug von der Webseite der DSJ: \n  \n_________________________________________________________________________________ \n\n\n  \nLiebe Schachfreundinnen und Schachfreunde\, \nder Mädchenschachkongress geht ins nächste Jahr und es werden wieder Seminar- und Workshopblöcke und ein Markt der Möglichkeiten rund ums Thema Mädchenschach angeboten. \n\n ... 
URL:https://bayerische-schachjugend.de/event/maedchenschachkongress/
LOCATION:Landessportbund Hessen eV\, Otto-Fleck-Schneise 4\, Frankfurt am Main\, Hessen\, 60528\, Germany
CATEGORIES:Mädchenschach
END:VEVENT
BEGIN:VEVENT
DTSTART;VALUE=DATE:20251004
DTEND;VALUE=DATE:20251005
DTSTAMP:20260421T013010
CREATED:20250819T165230Z
LAST-MODIFIED:20250819T165230Z
UID:16273-1759536000-1759622399@bayerische-schachjugend.de
SUMMARY:3. Amateur- und Meisterpokal Kelheim mit Jugendpokal
DESCRIPTION:Meister-Pokal: jegliches Alter mit DWZ > 1400\, 2 Runden (KO) in 4er-Gruppen\, 60 Minuten + 30 Sekunden pro Zug\, 1. Runde als Halbfinale\, dann ‘Spiel um 3. Platz’ und ‘Finale’\, Mitschreibepflicht und DWZ-Auswertung. \n\nAmateur-Pokal: jegliches Alter mit DWZ < 1600\, 3 Runden in 4er-Gruppen\, 60 Minuten + 30 Sekunden pro Zug\, Gruppen mit gleicher Spielstärke\, Erwachsene und ... 
URL:https://bayerische-schachjugend.de/event/3-amateur-und-meisterpokal-kelheim-mit-jugendpokal/
LOCATION:Sachsen
CATEGORIES:Andere Turniere
END:VEVENT
BEGIN:VEVENT
DTSTART;TZID=Europe/Berlin:20251003T100000
DTEND;TZID=Europe/Berlin:20251003T170000
DTSTAMP:20260421T013010
CREATED:20250727T133215Z
LAST-MODIFIED:20250727T173404Z
UID:16221-1759485600-1759510800@bayerische-schachjugend.de
SUMMARY:34. Bamberger Jugend Open
DESCRIPTION:Junge Schachspieler aus nah und fern pilgern am 3. Oktober nach Bamberg. Das Jugendschachturnier findet bereits zum 34. Mal statt. Auch in diesem Jahr erwarten die Ausrichtervereine aus Bamberg\, Höchstadt und Hallstadt bis zu 200 Teilnehmer in der Graf Staufenberg Realschule. Im Schnellschachmodus (20 Minuten Bedenkzeit pro Spieler und Partie) werden auch die Oberfränkischen ... 
URL:https://bayerische-schachjugend.de/event/34-bamberger-jugend-open/
LOCATION:Graf Staufenberg Realschule\, Kloster-Langheim-Straße 11\, Bamberg\, Bayern\, 96050\, Deutschland
CATEGORIES:BSJ-Turniere
ORGANIZER;CN="Bamberger Jugend-Open":MAILTO:kontakt@bamberger-jugendopen.de
END:VEVENT
END:VCALENDAR