BEGIN:VCALENDAR
VERSION:2.0
PRODID:-//Bayerische Schachjugend - ECPv6.15.18//NONSGML v1.0//EN
CALSCALE:GREGORIAN
METHOD:PUBLISH
X-ORIGINAL-URL:https://bayerische-schachjugend.de
X-WR-CALDESC:Veranstaltungen für Bayerische Schachjugend
REFRESH-INTERVAL;VALUE=DURATION:PT1H
X-Robots-Tag:noindex
X-PUBLISHED-TTL:PT1H
BEGIN:VTIMEZONE
TZID:Europe/Berlin
BEGIN:DAYLIGHT
TZOFFSETFROM:+0100
TZOFFSETTO:+0200
TZNAME:CEST
DTSTART:20220327T010000
END:DAYLIGHT
BEGIN:STANDARD
TZOFFSETFROM:+0200
TZOFFSETTO:+0100
TZNAME:CET
DTSTART:20221030T010000
END:STANDARD
BEGIN:DAYLIGHT
TZOFFSETFROM:+0100
TZOFFSETTO:+0200
TZNAME:CEST
DTSTART:20230326T010000
END:DAYLIGHT
BEGIN:STANDARD
TZOFFSETFROM:+0200
TZOFFSETTO:+0100
TZNAME:CET
DTSTART:20231029T010000
END:STANDARD
BEGIN:DAYLIGHT
TZOFFSETFROM:+0100
TZOFFSETTO:+0200
TZNAME:CEST
DTSTART:20240331T010000
END:DAYLIGHT
BEGIN:STANDARD
TZOFFSETFROM:+0200
TZOFFSETTO:+0100
TZNAME:CET
DTSTART:20241027T010000
END:STANDARD
END:VTIMEZONE
BEGIN:VEVENT
DTSTART;TZID=Europe/Berlin:20230311T100000
DTEND;TZID=Europe/Berlin:20230312T130000
DTSTAMP:20260421T102228
CREATED:20230116T182546Z
LAST-MODIFIED:20230116T182546Z
UID:12180-1678528800-1678626000@bayerische-schachjugend.de
SUMMARY:Schulschachpatent Nürnberg
DESCRIPTION:Mit über 3000 Patenten ist das Schulschachpatent seit über 10 Jahren ein kontinuierliches und nachgefragtes Fortbildungsangebot der Deutschen Schulschachstiftung.\nDas Schulschachpatent hat zum Ziel\, Übungsleiter und Lehrer auf die Arbeit an Schulen mit Schach vorzubereiten und dafür zu motivieren. Die Bandbreite der Organisationsformen von Schulschach reicht heute von Schach als Fach bis ... 
URL:https://bayerische-schachjugend.de/event/schulschachpatent-nuernberg/
LOCATION:Sachsen
CATEGORIES:Andere Turniere,Schulschach
END:VEVENT
END:VCALENDAR