BEGIN:VCALENDAR
VERSION:2.0
PRODID:-//Bayerische Schachjugend - ECPv6.15.18//NONSGML v1.0//EN
CALSCALE:GREGORIAN
METHOD:PUBLISH
X-WR-CALNAME:Bayerische Schachjugend
X-ORIGINAL-URL:https://bayerische-schachjugend.de
X-WR-CALDESC:Veranstaltungen für Bayerische Schachjugend
REFRESH-INTERVAL;VALUE=DURATION:PT1H
X-Robots-Tag:noindex
X-PUBLISHED-TTL:PT1H
BEGIN:VTIMEZONE
TZID:Europe/Berlin
BEGIN:DAYLIGHT
TZOFFSETFROM:+0100
TZOFFSETTO:+0200
TZNAME:CEST
DTSTART:20200329T010000
END:DAYLIGHT
BEGIN:STANDARD
TZOFFSETFROM:+0200
TZOFFSETTO:+0100
TZNAME:CET
DTSTART:20201025T010000
END:STANDARD
BEGIN:DAYLIGHT
TZOFFSETFROM:+0100
TZOFFSETTO:+0200
TZNAME:CEST
DTSTART:20210328T010000
END:DAYLIGHT
BEGIN:STANDARD
TZOFFSETFROM:+0200
TZOFFSETTO:+0100
TZNAME:CET
DTSTART:20211031T010000
END:STANDARD
BEGIN:DAYLIGHT
TZOFFSETFROM:+0100
TZOFFSETTO:+0200
TZNAME:CEST
DTSTART:20220327T010000
END:DAYLIGHT
BEGIN:STANDARD
TZOFFSETFROM:+0200
TZOFFSETTO:+0100
TZNAME:CET
DTSTART:20221030T010000
END:STANDARD
END:VTIMEZONE
BEGIN:VEVENT
DTSTART;TZID=Europe/Berlin:20211111T183000
DTEND;TZID=Europe/Berlin:20211114T150000
DTSTAMP:20260423T145239
CREATED:20211020T190926Z
LAST-MODIFIED:20211020T191126Z
UID:8111-1636655400-1636902000@bayerische-schachjugend.de
SUMMARY:Onlineseminar: Grundlehrgang II - ÜL-Ausbildung
DESCRIPTION:Do. 18:30 — 21:00 Uhr \nFr. 16:00 — 20:00 Uhr \nSa. 9:00 — 18:00 Uhr \nSo. 9:00 — 15:00 Uhr \n\nThemen: Organisation Sportverbände\, Leistungssport/Rahmentrainingsplan DSB & BSJ\, Rechtliche Aspekte der Jugendarbeit/Aufsichtspflicht\, Prävention sexuelle GEwalt\, Lern- und Lehrverständnis/Motivation\, Rhetorik und Pädagogik\, Kinderpsycholgie\, Lernleistungs\, Öffentlichkeitsarbeit\, Arbeitsrecht\, ... 
URL:https://bayerische-schachjugend.de/event/onlineseminar-grundlehrgang-ii-uel-ausbildung/
CATEGORIES:Ausbildung
END:VEVENT
END:VCALENDAR