BEGIN:VCALENDAR
VERSION:2.0
PRODID:-//Bayerische Schachjugend - ECPv6.15.18//NONSGML v1.0//EN
CALSCALE:GREGORIAN
METHOD:PUBLISH
X-WR-CALNAME:Bayerische Schachjugend
X-ORIGINAL-URL:https://bayerische-schachjugend.de
X-WR-CALDESC:Veranstaltungen für Bayerische Schachjugend
REFRESH-INTERVAL;VALUE=DURATION:PT1H
X-Robots-Tag:noindex
X-PUBLISHED-TTL:PT1H
BEGIN:VTIMEZONE
TZID:Europe/Berlin
BEGIN:DAYLIGHT
TZOFFSETFROM:+0100
TZOFFSETTO:+0200
TZNAME:CEST
DTSTART:20200329T010000
END:DAYLIGHT
BEGIN:STANDARD
TZOFFSETFROM:+0200
TZOFFSETTO:+0100
TZNAME:CET
DTSTART:20201025T010000
END:STANDARD
BEGIN:DAYLIGHT
TZOFFSETFROM:+0100
TZOFFSETTO:+0200
TZNAME:CEST
DTSTART:20210328T010000
END:DAYLIGHT
BEGIN:STANDARD
TZOFFSETFROM:+0200
TZOFFSETTO:+0100
TZNAME:CET
DTSTART:20211031T010000
END:STANDARD
BEGIN:DAYLIGHT
TZOFFSETFROM:+0100
TZOFFSETTO:+0200
TZNAME:CEST
DTSTART:20220327T010000
END:DAYLIGHT
BEGIN:STANDARD
TZOFFSETFROM:+0200
TZOFFSETTO:+0100
TZNAME:CET
DTSTART:20221030T010000
END:STANDARD
END:VTIMEZONE
BEGIN:VEVENT
DTSTART;TZID=Europe/Berlin:20210915T190000
DTEND;TZID=Europe/Berlin:20210915T203000
DTSTAMP:20260420T004521
CREATED:20210907T165437Z
LAST-MODIFIED:20210912T094309Z
UID:7724-1631732400-1631737800@bayerische-schachjugend.de
SUMMARY:Onlineseminar: Wie gestalte ich eine gute Unterrichtsstunde? [AUSGEBUCHT]
DESCRIPTION:Was? Wie bringt man einen roten Faden rein? Wie kann man verschiedene Spielstärkegruppen ansprechen? Anhand mehrerer Praxisbeispiele wird dieses Thema mit den Teilnehmern erarbeitet. \nReferent? Hermann Rogge (Gründer Schachschule Schachdiamanten aus Wolfratshausen) https://www.schach-diamanten.de/ \nWann? Mittwoch\, 15. September 2021 um 19 – 20:30 Uhr \nKosten? Keine \n\nAnmeldung? Formlose Mail an lehrgaenge@bayerische-schachjugend.de\, ... 
URL:https://bayerische-schachjugend.de/event/onlineseminar-wie-bereitet-man-eine-unterrichtsstunde-vor/
LOCATION:Sachsen
CATEGORIES:Ausbildung
END:VEVENT
END:VCALENDAR