BEGIN:VCALENDAR
VERSION:2.0
PRODID:-//Bayerische Schachjugend - ECPv6.15.18//NONSGML v1.0//EN
CALSCALE:GREGORIAN
METHOD:PUBLISH
X-ORIGINAL-URL:https://bayerische-schachjugend.de
X-WR-CALDESC:Veranstaltungen für Bayerische Schachjugend
REFRESH-INTERVAL;VALUE=DURATION:PT1H
X-Robots-Tag:noindex
X-PUBLISHED-TTL:PT1H
BEGIN:VTIMEZONE
TZID:Europe/Berlin
BEGIN:DAYLIGHT
TZOFFSETFROM:+0100
TZOFFSETTO:+0200
TZNAME:CEST
DTSTART:20200329T010000
END:DAYLIGHT
BEGIN:STANDARD
TZOFFSETFROM:+0200
TZOFFSETTO:+0100
TZNAME:CET
DTSTART:20201025T010000
END:STANDARD
BEGIN:DAYLIGHT
TZOFFSETFROM:+0100
TZOFFSETTO:+0200
TZNAME:CEST
DTSTART:20210328T010000
END:DAYLIGHT
BEGIN:STANDARD
TZOFFSETFROM:+0200
TZOFFSETTO:+0100
TZNAME:CET
DTSTART:20211031T010000
END:STANDARD
BEGIN:DAYLIGHT
TZOFFSETFROM:+0100
TZOFFSETTO:+0200
TZNAME:CEST
DTSTART:20220327T010000
END:DAYLIGHT
BEGIN:STANDARD
TZOFFSETFROM:+0200
TZOFFSETTO:+0100
TZNAME:CET
DTSTART:20221030T010000
END:STANDARD
END:VTIMEZONE
BEGIN:VEVENT
DTSTART;TZID=Europe/Berlin:20210903T170000
DTEND;TZID=Europe/Berlin:20210908T123000
DTSTAMP:20260420T004532
CREATED:20210316T180303Z
LAST-MODIFIED:20210807T080200Z
UID:6622-1630688400-1631104200@bayerische-schachjugend.de
SUMMARY:Bayerische Mädchentrainerinnenausbildung
DESCRIPTION:Wir möchten die Trainerinnenquote in unseren bayerischen Vereinen deutlich erhöhen und bieten deshalb extra eine Ausbildung für Damen an. In den ersten Tagen lernen die Teilnehmerinnen einiges an theoretischen Fähigkeiten (Pädagogik\, Aufsichtspflicht etc.) und  planen eine Freizeit für junge Mädels mit vielen spannenden Aktionen und Training. In der zweiten Hälfte werden die neu erlernten ... 
URL:https://bayerische-schachjugend.de/event/bayerische-maedchenbetreuerinnenausbildung/
LOCATION:Sachsen
CATEGORIES:Mädchenschach
END:VEVENT
BEGIN:VEVENT
DTSTART;VALUE=DATE:20210905
DTEND;VALUE=DATE:20210909
DTSTAMP:20260420T004532
CREATED:20210316T180412Z
LAST-MODIFIED:20210807T080501Z
UID:6624-1630800000-1631145599@bayerische-schachjugend.de
SUMMARY:Bayerisches Mädchencamp
DESCRIPTION:Die BSJ veranstaltet für junge Madels unter 14 Jahre eine Freizeit. Wer Anfang September einige schöne Tage mit Schach und viel Spaß verbringen möchte\, sollte sich rasch bis zum 14. August anmelden\, da noch wenige Plätze frei sind. \nAusschreibung: JubiMädelscamp
URL:https://bayerische-schachjugend.de/event/bayerisches-maedchencamp/
LOCATION:Sachsen
CATEGORIES:Mädchenschach
END:VEVENT
END:VCALENDAR