BEGIN:VCALENDAR
VERSION:2.0
PRODID:-//Bayerische Schachjugend - ECPv6.15.18//NONSGML v1.0//EN
CALSCALE:GREGORIAN
METHOD:PUBLISH
X-WR-CALNAME:Bayerische Schachjugend
X-ORIGINAL-URL:https://bayerische-schachjugend.de
X-WR-CALDESC:Veranstaltungen für Bayerische Schachjugend
REFRESH-INTERVAL;VALUE=DURATION:PT1H
X-Robots-Tag:noindex
X-PUBLISHED-TTL:PT1H
BEGIN:VTIMEZONE
TZID:Europe/Berlin
BEGIN:DAYLIGHT
TZOFFSETFROM:+0100
TZOFFSETTO:+0200
TZNAME:CEST
DTSTART:20200329T010000
END:DAYLIGHT
BEGIN:STANDARD
TZOFFSETFROM:+0200
TZOFFSETTO:+0100
TZNAME:CET
DTSTART:20201025T010000
END:STANDARD
BEGIN:DAYLIGHT
TZOFFSETFROM:+0100
TZOFFSETTO:+0200
TZNAME:CEST
DTSTART:20210328T010000
END:DAYLIGHT
BEGIN:STANDARD
TZOFFSETFROM:+0200
TZOFFSETTO:+0100
TZNAME:CET
DTSTART:20211031T010000
END:STANDARD
BEGIN:DAYLIGHT
TZOFFSETFROM:+0100
TZOFFSETTO:+0200
TZNAME:CEST
DTSTART:20220327T010000
END:DAYLIGHT
BEGIN:STANDARD
TZOFFSETFROM:+0200
TZOFFSETTO:+0100
TZNAME:CET
DTSTART:20221030T010000
END:STANDARD
END:VTIMEZONE
BEGIN:VEVENT
DTSTART;TZID=Europe/Berlin:20210608T190000
DTEND;TZID=Europe/Berlin:20210608T203000
DTSTAMP:20260420T044901
CREATED:20210604T081202Z
LAST-MODIFIED:20210604T115948Z
UID:7120-1623178800-1623184200@bayerische-schachjugend.de
SUMMARY:Onlinestammtisch
DESCRIPTION:Wie geht es im Vereinstraining weiter? Wo finde ich Tipps zur Mitgliedergewinnung? Wie verbessere ich mein Training? Was für Jugendturniere gibt es? \nRückblick Bayerische Meisterschaften — ein paar kleine taktische Leckerbissen \nWie steht es auf Deutscher Ebene (DSJ\, DSB\, DEM\, DVM)? \nund alles was ihr wollt. \n  \n\nDas und vieles mehr\, Anmeldung an lehrgaenge(at)bayerische-schachjugend.de bis Montag\, ... 
URL:https://bayerische-schachjugend.de/event/onlinestammtisch-2/
LOCATION:Sachsen
END:VEVENT
END:VCALENDAR