BEGIN:VCALENDAR
VERSION:2.0
PRODID:-//Bayerische Schachjugend - ECPv6.15.18//NONSGML v1.0//EN
CALSCALE:GREGORIAN
METHOD:PUBLISH
X-WR-CALNAME:Bayerische Schachjugend
X-ORIGINAL-URL:https://bayerische-schachjugend.de
X-WR-CALDESC:Veranstaltungen für Bayerische Schachjugend
REFRESH-INTERVAL;VALUE=DURATION:PT1H
X-Robots-Tag:noindex
X-PUBLISHED-TTL:PT1H
BEGIN:VTIMEZONE
TZID:Europe/Berlin
BEGIN:DAYLIGHT
TZOFFSETFROM:+0100
TZOFFSETTO:+0200
TZNAME:CEST
DTSTART:20200329T010000
END:DAYLIGHT
BEGIN:STANDARD
TZOFFSETFROM:+0200
TZOFFSETTO:+0100
TZNAME:CET
DTSTART:20201025T010000
END:STANDARD
BEGIN:DAYLIGHT
TZOFFSETFROM:+0100
TZOFFSETTO:+0200
TZNAME:CEST
DTSTART:20210328T010000
END:DAYLIGHT
BEGIN:STANDARD
TZOFFSETFROM:+0200
TZOFFSETTO:+0100
TZNAME:CET
DTSTART:20211031T010000
END:STANDARD
BEGIN:DAYLIGHT
TZOFFSETFROM:+0100
TZOFFSETTO:+0200
TZNAME:CEST
DTSTART:20220327T010000
END:DAYLIGHT
BEGIN:STANDARD
TZOFFSETFROM:+0200
TZOFFSETTO:+0100
TZNAME:CET
DTSTART:20221030T010000
END:STANDARD
END:VTIMEZONE
BEGIN:VEVENT
DTSTART;VALUE=DATE:20210531
DTEND;VALUE=DATE:20210605
DTSTAMP:20260420T062123
CREATED:20210411T214750Z
LAST-MODIFIED:20210520T110611Z
UID:6809-1622419200-1622851199@bayerische-schachjugend.de
SUMMARY:BMEM U14w\, U16w\, U18 w
DESCRIPTION:Die Bayerischen Mädchenmeisterschaften für die U14w\, U16w und U18w mussten nach Bad Kissingen verlegt werden. Die U10w spielt in der gleichen Woche in Neumarkt. Ursprünglich wollten wir damit einer Terminkollision mit der DVM U10/U12 auszuweichen\, die jedoch abgesagt wurde. Die U12w spielt in Bad Kissingen\, damit die Gruppenstärke nach der Verlegung der U10 ähnlich groß bleibt. Infos unter ... 
URL:https://bayerische-schachjugend.de/event/bmem-u14w-u16w-u18-w/
LOCATION:Jugendherberge Heiligenhof\, Alte Euerdorfer Str. 1\, 97688 Bad Kissingen
CATEGORIES:BSJ-Einzelmeisterschaft,Mädchenschach
END:VEVENT
END:VCALENDAR