BEGIN:VCALENDAR
VERSION:2.0
PRODID:-//Bayerische Schachjugend - ECPv6.15.18//NONSGML v1.0//EN
CALSCALE:GREGORIAN
METHOD:PUBLISH
X-WR-CALNAME:Bayerische Schachjugend
X-ORIGINAL-URL:https://bayerische-schachjugend.de
X-WR-CALDESC:Veranstaltungen für Bayerische Schachjugend
REFRESH-INTERVAL;VALUE=DURATION:PT1H
X-Robots-Tag:noindex
X-PUBLISHED-TTL:PT1H
BEGIN:VTIMEZONE
TZID:Europe/Berlin
BEGIN:DAYLIGHT
TZOFFSETFROM:+0100
TZOFFSETTO:+0200
TZNAME:CEST
DTSTART:20200329T010000
END:DAYLIGHT
BEGIN:STANDARD
TZOFFSETFROM:+0200
TZOFFSETTO:+0100
TZNAME:CET
DTSTART:20201025T010000
END:STANDARD
BEGIN:DAYLIGHT
TZOFFSETFROM:+0100
TZOFFSETTO:+0200
TZNAME:CEST
DTSTART:20210328T010000
END:DAYLIGHT
BEGIN:STANDARD
TZOFFSETFROM:+0200
TZOFFSETTO:+0100
TZNAME:CET
DTSTART:20211031T010000
END:STANDARD
BEGIN:DAYLIGHT
TZOFFSETFROM:+0100
TZOFFSETTO:+0200
TZNAME:CEST
DTSTART:20220327T010000
END:DAYLIGHT
BEGIN:STANDARD
TZOFFSETFROM:+0200
TZOFFSETTO:+0100
TZNAME:CET
DTSTART:20221030T010000
END:STANDARD
END:VTIMEZONE
BEGIN:VEVENT
DTSTART;TZID=Europe/Berlin:20210131T100000
DTEND;TZID=Europe/Berlin:20210131T130000
DTSTAMP:20260422T133925
CREATED:20201227T101648Z
LAST-MODIFIED:20210121T112522Z
UID:6221-1612087200-1612098000@bayerische-schachjugend.de
SUMMARY:Außerordentliche DSJ-Versammlung
DESCRIPTION:Der DSJ-Vorstand hat auf der außerordentlichen Jugendversammlung am 19.12.20 die Position vertreten\, die DEM-Vergabe auf vier Jahre (2021-24) mit einem Haushaltsvolumen von über 2 Mio Euro alleine entscheiden zu können. \nSechs Landesjugenden haben am 19.12.20 eine außerordentliche Jugendversammlung für Januar gefordert\, um die DEM-Vergabe transparent zu diskutieren und zu entscheiden. \n\nEinladung ... 
URL:https://bayerische-schachjugend.de/event/ausserordentliche-dsj-versammlung/
CATEGORIES:BSJ-Funktionär
END:VEVENT
END:VCALENDAR