BEGIN:VCALENDAR
VERSION:2.0
PRODID:-//Bayerische Schachjugend - ECPv6.15.18//NONSGML v1.0//EN
CALSCALE:GREGORIAN
METHOD:PUBLISH
X-WR-CALNAME:Bayerische Schachjugend
X-ORIGINAL-URL:https://bayerische-schachjugend.de
X-WR-CALDESC:Veranstaltungen für Bayerische Schachjugend
REFRESH-INTERVAL;VALUE=DURATION:PT1H
X-Robots-Tag:noindex
X-PUBLISHED-TTL:PT1H
BEGIN:VTIMEZONE
TZID:Europe/Berlin
BEGIN:DAYLIGHT
TZOFFSETFROM:+0100
TZOFFSETTO:+0200
TZNAME:CEST
DTSTART:20200329T010000
END:DAYLIGHT
BEGIN:STANDARD
TZOFFSETFROM:+0200
TZOFFSETTO:+0100
TZNAME:CET
DTSTART:20201025T010000
END:STANDARD
BEGIN:DAYLIGHT
TZOFFSETFROM:+0100
TZOFFSETTO:+0200
TZNAME:CEST
DTSTART:20210328T010000
END:DAYLIGHT
BEGIN:STANDARD
TZOFFSETFROM:+0200
TZOFFSETTO:+0100
TZNAME:CET
DTSTART:20211031T010000
END:STANDARD
BEGIN:DAYLIGHT
TZOFFSETFROM:+0100
TZOFFSETTO:+0200
TZNAME:CEST
DTSTART:20220327T010000
END:DAYLIGHT
BEGIN:STANDARD
TZOFFSETFROM:+0200
TZOFFSETTO:+0100
TZNAME:CET
DTSTART:20221030T010000
END:STANDARD
END:VTIMEZONE
BEGIN:VEVENT
DTSTART;VALUE=DATE:20210122
DTEND;VALUE=DATE:20210124
DTSTAMP:20260420T121713
CREATED:20201224T124444Z
LAST-MODIFIED:20210117T165447Z
UID:6211-1611273600-1611446399@bayerische-schachjugend.de
SUMMARY:Elitekampf: Bayern vs. Sachsen-Anhalt
DESCRIPTION:Unsere bayerische U20 Avantgarde kreuzt mit unseren Schachfreunden aus Sachsen-Anhalt am 22. und 23. Januar im Schnellschach- und Blitz die Klingen. Live wird der Wettkampf von Leonid Löw\, FM Max Hess und FM Andreas Ciolek auf Twitch kommentiert. \nAm Freitag und Samstag wird gestreamt. Link folgt \nBayern tritt an mit: \n\n\n\nSpieler\nVerein\naktuelle Elo\nErfolg & Funktion\n\n\nTobias Kolb\nBamberg\n2285\nDeutscher U16-Vize\n\n\nJana Schneider (FM)\nBavaria Regensburg\n2272\nDeutsche U18-Meisterin\n\n\nZarko Vuckovic\nSF Augsburg\n2241\nTrainer auf DEM\n\n\nLars Goldbeck (FM)\nBavaria Regensburg\n2235\nBayerischer Mannschaftsmeister & Topscorer\n\n\nLeonardo Costa\nMünchen SO\n2165\nDeutsche U14 Nr. 2 nach DWZ\n\n\nMarkus Albert\nAnsbach\n1926\nDeutscher U14-Meister\n\n\n\nLichessTeam Link: https://lichess.org/team/team-bayern-landervergleichskampf
URL:https://bayerische-schachjugend.de/event/vergleichskampf/
LOCATION:Sachsen
CATEGORIES:Leistungssport
END:VEVENT
END:VCALENDAR