BEGIN:VCALENDAR
VERSION:2.0
PRODID:-//Bayerische Schachjugend - ECPv6.15.18//NONSGML v1.0//EN
CALSCALE:GREGORIAN
METHOD:PUBLISH
X-ORIGINAL-URL:https://bayerische-schachjugend.de
X-WR-CALDESC:Veranstaltungen für Bayerische Schachjugend
REFRESH-INTERVAL;VALUE=DURATION:PT1H
X-Robots-Tag:noindex
X-PUBLISHED-TTL:PT1H
BEGIN:VTIMEZONE
TZID:Europe/Berlin
BEGIN:DAYLIGHT
TZOFFSETFROM:+0100
TZOFFSETTO:+0200
TZNAME:CEST
DTSTART:20190331T010000
END:DAYLIGHT
BEGIN:STANDARD
TZOFFSETFROM:+0200
TZOFFSETTO:+0100
TZNAME:CET
DTSTART:20191027T010000
END:STANDARD
BEGIN:DAYLIGHT
TZOFFSETFROM:+0100
TZOFFSETTO:+0200
TZNAME:CEST
DTSTART:20200329T010000
END:DAYLIGHT
BEGIN:STANDARD
TZOFFSETFROM:+0200
TZOFFSETTO:+0100
TZNAME:CET
DTSTART:20201025T010000
END:STANDARD
BEGIN:DAYLIGHT
TZOFFSETFROM:+0100
TZOFFSETTO:+0200
TZNAME:CEST
DTSTART:20210328T010000
END:DAYLIGHT
BEGIN:STANDARD
TZOFFSETFROM:+0200
TZOFFSETTO:+0100
TZNAME:CET
DTSTART:20211031T010000
END:STANDARD
BEGIN:DAYLIGHT
TZOFFSETFROM:+0100
TZOFFSETTO:+0200
TZNAME:CEST
DTSTART:20220327T010000
END:DAYLIGHT
BEGIN:STANDARD
TZOFFSETFROM:+0200
TZOFFSETTO:+0100
TZNAME:CET
DTSTART:20221030T010000
END:STANDARD
END:VTIMEZONE
BEGIN:VEVENT
DTSTART;VALUE=DATE:20201219
DTEND;VALUE=DATE:20210111
DTSTAMP:20260420T121809
CREATED:20201202T190012Z
LAST-MODIFIED:20201202T201705Z
UID:6077-1608336000-1610323199@bayerische-schachjugend.de
SUMMARY:Neunkirchener Online-Open mit langer Bedenkzeit
DESCRIPTION:Neunkirchener Online-Open mit langer Bedenkzeit \n\n  \nDEUTCHER SCHACHBUND ZEICHNET NOSO AUS \n  \n\n10.9.2020: NOSO hatte sich beim Wettbewerb Schach dem Virus beteiligt\, der vom Deutschen Schachbund ausgeschrieben wurde\, und wurde als einer von 10 Gewinnern ausgezeichnet. Ein Grund wurde uns nicht mitgeteilt. Wahrscheinlich wurde unser Angebot prämiert\, weil Online-Turniere mit langer ... 
URL:https://bayerische-schachjugend.de/event/neunkirchener-online-open-mit-langer-bedenkzeit/
LOCATION:Sachsen
CATEGORIES:Andere Turniere
END:VEVENT
END:VCALENDAR